BEGIN:VCALENDAR
VERSION:2.0
PRODID:-//Strasburg Parks &amp; Recreation District - ECPv6.15.13//NONSGML v1.0//EN
CALSCALE:GREGORIAN
METHOD:PUBLISH
X-ORIGINAL-URL:https://www.strasburgparks.org
X-WR-CALDESC:Events for Strasburg Parks &amp; Recreation District
REFRESH-INTERVAL;VALUE=DURATION:PT1H
X-Robots-Tag:noindex
X-PUBLISHED-TTL:PT1H
BEGIN:VTIMEZONE
TZID:UTC
BEGIN:STANDARD
TZOFFSETFROM:+0000
TZOFFSETTO:+0000
TZNAME:UTC
DTSTART:20240101T000000
END:STANDARD
END:VTIMEZONE
BEGIN:VEVENT
DTSTART;TZID=UTC:20251217T173000
DTEND;TZID=UTC:20251217T190000
DTSTAMP:20260416T234242
CREATED:20250923T213407Z
LAST-MODIFIED:20251023T184741Z
UID:10000035-1765992600-1765998000@www.strasburgparks.org
SUMMARY:CARA Basketball Skills Challenge
DESCRIPTION:
URL:https://www.strasburgparks.org/event/cara-basketball-skills-challenge/
LOCATION:Strasburg Gyms
ORGANIZER;CN="Sara Rushman":MAILTO:activities@strasburgparks.org
END:VEVENT
BEGIN:VEVENT
DTSTART;VALUE=DATE:20251005
DTEND;VALUE=DATE:20251006
DTSTAMP:20260416T234242
CREATED:20250923T200751Z
LAST-MODIFIED:20251003T182834Z
UID:10000007-1759622400-1759708799@www.strasburgparks.org
SUMMARY:Youth Coed Recreational Basketball
DESCRIPTION:
URL:https://www.strasburgparks.org/event/youth-coed-recreational-basketball/
LOCATION:Strasburg Gyms
ORGANIZER;CN="Josh Holloway":MAILTO:strasburgbasketball@gmail.com
END:VEVENT
END:VCALENDAR