BEGIN:VCALENDAR
VERSION:2.0
PRODID:-//Strasburg Parks &amp; Recreation District - ECPv6.15.13//NONSGML v1.0//EN
CALSCALE:GREGORIAN
METHOD:PUBLISH
X-ORIGINAL-URL:https://www.strasburgparks.org
X-WR-CALDESC:Events for Strasburg Parks &amp; Recreation District
REFRESH-INTERVAL;VALUE=DURATION:PT1H
X-Robots-Tag:noindex
X-PUBLISHED-TTL:PT1H
BEGIN:VTIMEZONE
TZID:UTC
BEGIN:STANDARD
TZOFFSETFROM:+0000
TZOFFSETTO:+0000
TZNAME:UTC
DTSTART:20240101T000000
END:STANDARD
END:VTIMEZONE
BEGIN:VEVENT
DTSTART;TZID=UTC:20260310T130000
DTEND;TZID=UTC:20260310T150000
DTSTAMP:20260417T031821
CREATED:20260112T224817Z
LAST-MODIFIED:20260112T231857Z
UID:10000999-1773147600-1773154800@www.strasburgparks.org
SUMMARY:Senior Bingo
DESCRIPTION:Sponsored by:  \n 
URL:https://www.strasburgparks.org/event/senior-bingo/
LOCATION:Strasburg Community Center\, 56423 Westview Ave.\, Strasburg\, CO\, 80136\, United States
END:VEVENT
BEGIN:VEVENT
DTSTART;TZID=UTC:20260309T110000
DTEND;TZID=UTC:20260309T120000
DTSTAMP:20260417T031821
CREATED:20260112T224047Z
LAST-MODIFIED:20260115T183605Z
UID:10000998-1773054000-1773057600@www.strasburgparks.org
SUMMARY:Creative Art Class 4th-8th Grade: Animal Silhouette Watercolor
DESCRIPTION:
URL:https://www.strasburgparks.org/event/creative-art-class-4th-8th-grade-animal-silhouette-watercolor/
LOCATION:Strasburg Community Center\, 56423 Westview Ave.\, Strasburg\, CO\, 80136\, United States
ORGANIZER;CN="Jessica Loveless":MAILTO:jessica@strasburgparks.org
END:VEVENT
BEGIN:VEVENT
DTSTART;TZID=UTC:20260309T100000
DTEND;TZID=UTC:20260309T104500
DTSTAMP:20260417T031821
CREATED:20260112T223928Z
LAST-MODIFIED:20260115T183528Z
UID:10000997-1773050400-1773053100@www.strasburgparks.org
SUMMARY:Creative Art Class K-3rd Grade: Animal Silhouette Watercolor
DESCRIPTION:
URL:https://www.strasburgparks.org/event/creative-art-class-k-3rd-grade-animal-silhouette-watercolor/
LOCATION:Strasburg Community Center\, 56423 Westview Ave.\, Strasburg\, CO\, 80136\, United States
ORGANIZER;CN="Jessica Loveless":MAILTO:jessica@strasburgparks.org
END:VEVENT
BEGIN:VEVENT
DTSTART;TZID=UTC:20260308T120000
DTEND;TZID=UTC:20260308T150000
DTSTAMP:20260417T031821
CREATED:20251008T225544Z
LAST-MODIFIED:20260115T184640Z
UID:10000177-1772971200-1772982000@www.strasburgparks.org
SUMMARY:Open Create!
DESCRIPTION:
URL:https://www.strasburgparks.org/event/open-create-2/2026-03-08/
LOCATION:Strasburg Community Center\, 56423 Westview Ave.\, Strasburg\, CO\, 80136\, United States
END:VEVENT
BEGIN:VEVENT
DTSTART;VALUE=DATE:20260305
DTEND;VALUE=DATE:20260306
DTSTAMP:20260417T031821
CREATED:20260112T223805Z
LAST-MODIFIED:20260115T183446Z
UID:10000996-1772668800-1772755199@www.strasburgparks.org
SUMMARY:Creative Art Class: Animal Silhouette Watercolor Deadline
DESCRIPTION:
URL:https://www.strasburgparks.org/event/creative-art-class-animal-silhouette-watercolor-deadline/
LOCATION:Strasburg Community Center\, 56423 Westview Ave.\, Strasburg\, CO\, 80136\, United States
ORGANIZER;CN="Jessica Loveless":MAILTO:jessica@strasburgparks.org
END:VEVENT
BEGIN:VEVENT
DTSTART;TZID=UTC:20260223T110000
DTEND;TZID=UTC:20260223T120000
DTSTAMP:20260417T031821
CREATED:20260112T222414Z
LAST-MODIFIED:20260115T183324Z
UID:10000992-1771844400-1771848000@www.strasburgparks.org
SUMMARY:Creative Art Class 4th-8th Grade: Mountain Landscapes
DESCRIPTION:
URL:https://www.strasburgparks.org/event/creative-art-class-4th-8th-grade-mountain-landscapes/
LOCATION:Strasburg Community Center\, 56423 Westview Ave.\, Strasburg\, CO\, 80136\, United States
ORGANIZER;CN="Jessica Loveless":MAILTO:jessica@strasburgparks.org
END:VEVENT
BEGIN:VEVENT
DTSTART;TZID=UTC:20260223T100000
DTEND;TZID=UTC:20260223T104500
DTSTAMP:20260417T031821
CREATED:20260112T222312Z
LAST-MODIFIED:20260115T183233Z
UID:10000991-1771840800-1771843500@www.strasburgparks.org
SUMMARY:Creative Art Class K-3rd Grade: Mountain Landscapes
DESCRIPTION:
URL:https://www.strasburgparks.org/event/creative-art-class-k-3rd-grade-mountain-landscapes/
LOCATION:Strasburg Community Center\, 56423 Westview Ave.\, Strasburg\, CO\, 80136\, United States
ORGANIZER;CN="Jessica Loveless":MAILTO:jessica@strasburgparks.org
END:VEVENT
BEGIN:VEVENT
DTSTART;TZID=UTC:20260222T120000
DTEND;TZID=UTC:20260222T150000
DTSTAMP:20260417T031821
CREATED:20251008T225544Z
LAST-MODIFIED:20260115T184640Z
UID:10000176-1771761600-1771772400@www.strasburgparks.org
SUMMARY:Open Create!
DESCRIPTION:
URL:https://www.strasburgparks.org/event/open-create-2/2026-02-22/
LOCATION:Strasburg Community Center\, 56423 Westview Ave.\, Strasburg\, CO\, 80136\, United States
END:VEVENT
BEGIN:VEVENT
DTSTART;VALUE=DATE:20260219
DTEND;VALUE=DATE:20260220
DTSTAMP:20260417T031821
CREATED:20260112T222145Z
LAST-MODIFIED:20260115T183018Z
UID:10000990-1771459200-1771545599@www.strasburgparks.org
SUMMARY:Creative Art Class: Mountain Landscapes Deadline
DESCRIPTION:
URL:https://www.strasburgparks.org/event/creative-art-class-mountain-landscapes-deadline/
LOCATION:Strasburg Community Center\, 56423 Westview Ave.\, Strasburg\, CO\, 80136\, United States
ORGANIZER;CN="Jessica Loveless":MAILTO:jessica@strasburgparks.org
END:VEVENT
BEGIN:VEVENT
DTSTART;TZID=UTC:20260209T110000
DTEND;TZID=UTC:20260209T120000
DTSTAMP:20260417T031821
CREATED:20260112T220505Z
LAST-MODIFIED:20260115T182930Z
UID:10000202-1770634800-1770638400@www.strasburgparks.org
SUMMARY:Creative Art Class 4th-8th Grade: Art Journaling and Collage
DESCRIPTION:
URL:https://www.strasburgparks.org/event/creative-art-class-4th-8th-grade-art-journaling-and-collage/
LOCATION:Strasburg Community Center\, 56423 Westview Ave.\, Strasburg\, CO\, 80136\, United States
ORGANIZER;CN="Jessica Loveless":MAILTO:jessica@strasburgparks.org
END:VEVENT
BEGIN:VEVENT
DTSTART;TZID=UTC:20260209T100000
DTEND;TZID=UTC:20260209T104500
DTSTAMP:20260417T031821
CREATED:20260112T215851Z
LAST-MODIFIED:20260115T182734Z
UID:10000201-1770631200-1770633900@www.strasburgparks.org
SUMMARY:Creative Art Class K-3rd Grade: Art Journaling and Collage
DESCRIPTION:
URL:https://www.strasburgparks.org/event/creative-art-class-art-journaling-and-collage/
LOCATION:Strasburg Community Center\, 56423 Westview Ave.\, Strasburg\, CO\, 80136\, United States
ORGANIZER;CN="Jessica Loveless":MAILTO:jessica@strasburgparks.org
END:VEVENT
BEGIN:VEVENT
DTSTART;TZID=UTC:20260208T120000
DTEND;TZID=UTC:20260208T150000
DTSTAMP:20260417T031821
CREATED:20251008T225544Z
LAST-MODIFIED:20260115T184640Z
UID:10000175-1770552000-1770562800@www.strasburgparks.org
SUMMARY:Open Create!
DESCRIPTION:
URL:https://www.strasburgparks.org/event/open-create-2/2026-02-08/
LOCATION:Strasburg Community Center\, 56423 Westview Ave.\, Strasburg\, CO\, 80136\, United States
END:VEVENT
BEGIN:VEVENT
DTSTART;VALUE=DATE:20260205
DTEND;VALUE=DATE:20260206
DTSTAMP:20260417T031821
CREATED:20260112T220608Z
LAST-MODIFIED:20260115T182553Z
UID:10000203-1770249600-1770335999@www.strasburgparks.org
SUMMARY:Creative Art Class: Art Journaling and Collage Deadline
DESCRIPTION:
URL:https://www.strasburgparks.org/event/creative-art-class-art-journaling-and-collage-deadline/
LOCATION:Strasburg Community Center\, 56423 Westview Ave.\, Strasburg\, CO\, 80136\, United States
ORGANIZER;CN="Jessica Loveless":MAILTO:jessica@strasburgparks.org
END:VEVENT
BEGIN:VEVENT
DTSTART;TZID=UTC:20251215T180000
DTEND;TZID=UTC:20251215T190000
DTSTAMP:20260417T031821
CREATED:20250923T213156Z
LAST-MODIFIED:20251014T204042Z
UID:10000034-1765821600-1765825200@www.strasburgparks.org
SUMMARY:Creative Art Class 4th-8th: Painted Ornaments
DESCRIPTION:
URL:https://www.strasburgparks.org/event/creative-art-class-3rd-5th-painted-ornaments/
LOCATION:Strasburg Community Center\, 56423 Westview Ave.\, Strasburg\, CO\, 80136\, United States
END:VEVENT
BEGIN:VEVENT
DTSTART;TZID=UTC:20251215T170000
DTEND;TZID=UTC:20251215T174500
DTSTAMP:20260417T031821
CREATED:20250923T212729Z
LAST-MODIFIED:20251014T204005Z
UID:10000033-1765818000-1765820700@www.strasburgparks.org
SUMMARY:Creative Art Class K-3rd: Painted Ornaments
DESCRIPTION:
URL:https://www.strasburgparks.org/event/creative-art-class-k-2nd-painted-ornaments/
LOCATION:Strasburg Community Center\, 56423 Westview Ave.\, Strasburg\, CO\, 80136\, United States
ORGANIZER;CN="Jessica Loveless":MAILTO:jessica@strasburgparks.org
END:VEVENT
BEGIN:VEVENT
DTSTART;VALUE=DATE:20251211
DTEND;VALUE=DATE:20251212
DTSTAMP:20260417T031821
CREATED:20250923T212552Z
LAST-MODIFIED:20250923T212552Z
UID:10000032-1765411200-1765497599@www.strasburgparks.org
SUMMARY:Creative Art Class: Painted Ornaments Deadline
DESCRIPTION:
URL:https://www.strasburgparks.org/event/creative-art-class-painted-ornaments-deadline/
LOCATION:Strasburg Community Center\, 56423 Westview Ave.\, Strasburg\, CO\, 80136\, United States
END:VEVENT
BEGIN:VEVENT
DTSTART;TZID=UTC:20251201T110000
DTEND;TZID=UTC:20251201T120000
DTSTAMP:20260417T031821
CREATED:20250923T211333Z
LAST-MODIFIED:20251014T203917Z
UID:10000027-1764586800-1764590400@www.strasburgparks.org
SUMMARY:Creative Art Class 4th-8th: "Catch a Snowflake" Silly Self Portrait
DESCRIPTION:
URL:https://www.strasburgparks.org/event/creative-art-class-3rd-5th-catch-a-snowflake-silly-self-portrait/
LOCATION:Strasburg Community Center\, 56423 Westview Ave.\, Strasburg\, CO\, 80136\, United States
END:VEVENT
BEGIN:VEVENT
DTSTART;TZID=UTC:20251201T100000
DTEND;TZID=UTC:20251201T104500
DTSTAMP:20260417T031821
CREATED:20250923T211210Z
LAST-MODIFIED:20251014T203837Z
UID:10000026-1764583200-1764585900@www.strasburgparks.org
SUMMARY:Creative Art Class K-3rd: "Catch a Snowflake" Silly Self Portrait
DESCRIPTION:
URL:https://www.strasburgparks.org/event/creative-art-class-k-2nd-catch-a-snowflake-silly-self-portrait/
LOCATION:Strasburg Community Center\, 56423 Westview Ave.\, Strasburg\, CO\, 80136\, United States
ORGANIZER;CN="Jessica Loveless":MAILTO:jessica@strasburgparks.org
END:VEVENT
BEGIN:VEVENT
DTSTART;TZID=UTC:20251124T110000
DTEND;TZID=UTC:20251124T120000
DTSTAMP:20260417T031821
CREATED:20250923T210529Z
LAST-MODIFIED:20251118T170019Z
UID:10000023-1763982000-1763985600@www.strasburgparks.org
SUMMARY:Creative Art Class 4th-8th: Watercolor Thanksgiving Painting
DESCRIPTION:
URL:https://www.strasburgparks.org/event/creative-art-class-3rd-5th-watercolor-thanksgiving-painting/
LOCATION:Strasburg Community Center\, 56423 Westview Ave.\, Strasburg\, CO\, 80136\, United States
ORGANIZER;CN="Jessica Loveless":MAILTO:jessica@strasburgparks.org
END:VEVENT
BEGIN:VEVENT
DTSTART;TZID=UTC:20251124T100000
DTEND;TZID=UTC:20251124T104500
DTSTAMP:20260417T031821
CREATED:20250923T210413Z
LAST-MODIFIED:20251118T170111Z
UID:10000022-1763978400-1763981100@www.strasburgparks.org
SUMMARY:Creative Art Class K-3rd: Watercolor Thanksgiving Painting
DESCRIPTION:
URL:https://www.strasburgparks.org/event/creative-art-class-k-2nd-watercolor-thanksgiving-painting/
LOCATION:Strasburg Community Center\, 56423 Westview Ave.\, Strasburg\, CO\, 80136\, United States
ORGANIZER;CN="Jessica Loveless":MAILTO:jessica@strasburgparks.org
END:VEVENT
BEGIN:VEVENT
DTSTART;TZID=UTC:20251123T120000
DTEND;TZID=UTC:20251123T150000
DTSTAMP:20260417T031821
CREATED:20251008T224845Z
LAST-MODIFIED:20251008T225402Z
UID:10000043-1763899200-1763910000@www.strasburgparks.org
SUMMARY:Open Create!
DESCRIPTION:
URL:https://www.strasburgparks.org/event/open-create/2025-11-23/
LOCATION:Strasburg Community Center\, 56423 Westview Ave.\, Strasburg\, CO\, 80136\, United States
END:VEVENT
BEGIN:VEVENT
DTSTART;VALUE=DATE:20251113
DTEND;VALUE=DATE:20251114
DTSTAMP:20260417T031821
CREATED:20250923T204444Z
LAST-MODIFIED:20250923T204444Z
UID:10000019-1762992000-1763078399@www.strasburgparks.org
SUMMARY:Creative Art Class: Watercolor Thanksgiving Painting Deadline
DESCRIPTION:
URL:https://www.strasburgparks.org/event/creative-art-class-watercolor-thanksgiving-painting-deadline/
LOCATION:Strasburg Community Center\, 56423 Westview Ave.\, Strasburg\, CO\, 80136\, United States
ORGANIZER;CN="Jessica Loveless":MAILTO:jessica@strasburgparks.org
END:VEVENT
BEGIN:VEVENT
DTSTART;TZID=UTC:20251109T120000
DTEND;TZID=UTC:20251109T150000
DTSTAMP:20260417T031821
CREATED:20251008T224845Z
LAST-MODIFIED:20251008T225402Z
UID:10000042-1762689600-1762700400@www.strasburgparks.org
SUMMARY:Open Create!
DESCRIPTION:
URL:https://www.strasburgparks.org/event/open-create/2025-11-09/
LOCATION:Strasburg Community Center\, 56423 Westview Ave.\, Strasburg\, CO\, 80136\, United States
END:VEVENT
BEGIN:VEVENT
DTSTART;TZID=UTC:20251108T160000
DTEND;TZID=UTC:20251108T190000
DTSTAMP:20260417T031821
CREATED:20250923T204011Z
LAST-MODIFIED:20250923T204011Z
UID:10000017-1762617600-1762628400@www.strasburgparks.org
SUMMARY:Salute To Our Veterans Spaghetti Dinner
DESCRIPTION:
URL:https://www.strasburgparks.org/event/salute-to-our-veterans-spaghetti-dinner/
LOCATION:Strasburg Community Center\, 56423 Westview Ave.\, Strasburg\, CO\, 80136\, United States
ORGANIZER;CN="Jessica Loveless":MAILTO:jessica@strasburgparks.org
END:VEVENT
BEGIN:VEVENT
DTSTART;TZID=UTC:20251103T110000
DTEND;TZID=UTC:20251103T120000
DTSTAMP:20260417T031821
CREATED:20250923T203334Z
LAST-MODIFIED:20251014T203616Z
UID:10000015-1762167600-1762171200@www.strasburgparks.org
SUMMARY:Creative Art Class 4th-8th: Nature Prints Fall Wreath
DESCRIPTION:
URL:https://www.strasburgparks.org/event/creative-art-class-3rd-5th-nature-prints-fall-wreath/
LOCATION:Strasburg Community Center\, 56423 Westview Ave.\, Strasburg\, CO\, 80136\, United States
ORGANIZER;CN="Jessica Loveless":MAILTO:jessica@strasburgparks.org
END:VEVENT
BEGIN:VEVENT
DTSTART;TZID=UTC:20251103T100000
DTEND;TZID=UTC:20251103T224500
DTSTAMP:20260417T031821
CREATED:20250923T203207Z
LAST-MODIFIED:20251014T203529Z
UID:10000014-1762164000-1762209900@www.strasburgparks.org
SUMMARY:Creative Art Class K-3rd: Nature Prints Fall Wreath
DESCRIPTION:
URL:https://www.strasburgparks.org/event/creative-art-class-k-2nd-nature-prints-fall-wreath/
LOCATION:Strasburg Community Center\, 56423 Westview Ave.\, Strasburg\, CO\, 80136\, United States
ORGANIZER;CN="Jessica Loveless":MAILTO:jessica@strasburgparks.org
END:VEVENT
BEGIN:VEVENT
DTSTART;VALUE=DATE:20251030
DTEND;VALUE=DATE:20251031
DTSTAMP:20260417T031821
CREATED:20250923T203046Z
LAST-MODIFIED:20250923T203046Z
UID:10000013-1761782400-1761868799@www.strasburgparks.org
SUMMARY:Creative Art Class: Nature Prints Fall Wreath Deadline
DESCRIPTION:
URL:https://www.strasburgparks.org/event/creative-art-class-nature-prints-fall-wreath-deadline/
LOCATION:Strasburg Community Center\, 56423 Westview Ave.\, Strasburg\, CO\, 80136\, United States
ORGANIZER;CN="Jessica Loveless":MAILTO:jessica@strasburgparks.org
END:VEVENT
BEGIN:VEVENT
DTSTART;TZID=UTC:20251026T120000
DTEND;TZID=UTC:20251026T150000
DTSTAMP:20260417T031821
CREATED:20251008T224845Z
LAST-MODIFIED:20251008T225402Z
UID:10000041-1761480000-1761490800@www.strasburgparks.org
SUMMARY:Open Create!
DESCRIPTION:
URL:https://www.strasburgparks.org/event/open-create/2025-10-26/
LOCATION:Strasburg Community Center\, 56423 Westview Ave.\, Strasburg\, CO\, 80136\, United States
END:VEVENT
BEGIN:VEVENT
DTSTART;TZID=UTC:20251020T110000
DTEND;TZID=UTC:20251020T120000
DTSTAMP:20260417T031821
CREATED:20250923T202347Z
LAST-MODIFIED:20251014T203444Z
UID:10000011-1760958000-1760961600@www.strasburgparks.org
SUMMARY:Creative Art Class 4th-8th: Sculpting Monster Buddies
DESCRIPTION:
URL:https://www.strasburgparks.org/event/creative-art-class-3rd-5th-sculpting-monster-buddies/
LOCATION:Strasburg Community Center\, 56423 Westview Ave.\, Strasburg\, CO\, 80136\, United States
ORGANIZER;CN="Jessica Loveless":MAILTO:jessica@strasburgparks.org
END:VEVENT
BEGIN:VEVENT
DTSTART;TZID=UTC:20251020T100000
DTEND;TZID=UTC:20251020T104500
DTSTAMP:20260417T031821
CREATED:20250923T202227Z
LAST-MODIFIED:20251014T203346Z
UID:10000010-1760954400-1760957100@www.strasburgparks.org
SUMMARY:Creative Art Class K-3rd: Sculpting Monster Buddies
DESCRIPTION:
URL:https://www.strasburgparks.org/event/creative-art-class-k-2nd-sculpting-monster-buddies/
LOCATION:Strasburg Community Center\, 56423 Westview Ave.\, Strasburg\, CO\, 80136\, United States
ORGANIZER;CN="Jessica Loveless":MAILTO:jessica@strasburgparks.org
END:VEVENT
END:VCALENDAR