BEGIN:VCALENDAR
VERSION:2.0
PRODID:-//Strasburg Parks &amp; Recreation District - ECPv6.15.13//NONSGML v1.0//EN
CALSCALE:GREGORIAN
METHOD:PUBLISH
X-WR-CALNAME:Strasburg Parks &amp; Recreation District
X-ORIGINAL-URL:https://www.strasburgparks.org
X-WR-CALDESC:Events for Strasburg Parks &amp; Recreation District
REFRESH-INTERVAL;VALUE=DURATION:PT1H
X-Robots-Tag:noindex
X-PUBLISHED-TTL:PT1H
BEGIN:VTIMEZONE
TZID:UTC
BEGIN:STANDARD
TZOFFSETFROM:+0000
TZOFFSETTO:+0000
TZNAME:UTC
DTSTART:20290101T000000
END:STANDARD
END:VTIMEZONE
BEGIN:VEVENT
DTSTART;TZID=UTC:20300211T140000
DTEND;TZID=UTC:20300211T160000
DTSTAMP:20260422T232415
CREATED:20260112T221440Z
LAST-MODIFIED:20260112T221750Z
UID:10000846-1897048800-1897056000@www.strasburgparks.org
SUMMARY:Indoor Facility Open Cages
DESCRIPTION:Cost: $25 for 6 visits (Punch Card Purchase Required)
URL:https://www.strasburgparks.org/event/indoor-facility-open-cages/2030-02-11/
LOCATION:Indoor Facility\, 56401 Sunset Ave.\, Strrasburg\, CO\, 80136
ORGANIZER;CN="Sara Rushman":MAILTO:activities@strasburgparks.org
END:VEVENT
BEGIN:VEVENT
DTSTART;TZID=UTC:20300215T140000
DTEND;TZID=UTC:20300215T160000
DTSTAMP:20260422T232415
CREATED:20260112T221440Z
LAST-MODIFIED:20260112T221750Z
UID:10000847-1897394400-1897401600@www.strasburgparks.org
SUMMARY:Indoor Facility Open Cages
DESCRIPTION:Cost: $25 for 6 visits (Punch Card Purchase Required)
URL:https://www.strasburgparks.org/event/indoor-facility-open-cages/2030-02-15/
LOCATION:Indoor Facility\, 56401 Sunset Ave.\, Strrasburg\, CO\, 80136
ORGANIZER;CN="Sara Rushman":MAILTO:activities@strasburgparks.org
END:VEVENT
BEGIN:VEVENT
DTSTART;TZID=UTC:20300217T140000
DTEND;TZID=UTC:20300217T160000
DTSTAMP:20260422T232415
CREATED:20260112T221440Z
LAST-MODIFIED:20260112T221750Z
UID:10000848-1897567200-1897574400@www.strasburgparks.org
SUMMARY:Indoor Facility Open Cages
DESCRIPTION:Cost: $25 for 6 visits (Punch Card Purchase Required)
URL:https://www.strasburgparks.org/event/indoor-facility-open-cages/2030-02-17/
LOCATION:Indoor Facility\, 56401 Sunset Ave.\, Strrasburg\, CO\, 80136
ORGANIZER;CN="Sara Rushman":MAILTO:activities@strasburgparks.org
END:VEVENT
BEGIN:VEVENT
DTSTART;TZID=UTC:20300218T140000
DTEND;TZID=UTC:20300218T160000
DTSTAMP:20260422T232415
CREATED:20260112T221440Z
LAST-MODIFIED:20260112T221750Z
UID:10000849-1897653600-1897660800@www.strasburgparks.org
SUMMARY:Indoor Facility Open Cages
DESCRIPTION:Cost: $25 for 6 visits (Punch Card Purchase Required)
URL:https://www.strasburgparks.org/event/indoor-facility-open-cages/2030-02-18/
LOCATION:Indoor Facility\, 56401 Sunset Ave.\, Strrasburg\, CO\, 80136
ORGANIZER;CN="Sara Rushman":MAILTO:activities@strasburgparks.org
END:VEVENT
BEGIN:VEVENT
DTSTART;TZID=UTC:20300222T140000
DTEND;TZID=UTC:20300222T160000
DTSTAMP:20260422T232415
CREATED:20260112T221440Z
LAST-MODIFIED:20260112T221750Z
UID:10000850-1897999200-1898006400@www.strasburgparks.org
SUMMARY:Indoor Facility Open Cages
DESCRIPTION:Cost: $25 for 6 visits (Punch Card Purchase Required)
URL:https://www.strasburgparks.org/event/indoor-facility-open-cages/2030-02-22/
LOCATION:Indoor Facility\, 56401 Sunset Ave.\, Strrasburg\, CO\, 80136
ORGANIZER;CN="Sara Rushman":MAILTO:activities@strasburgparks.org
END:VEVENT
BEGIN:VEVENT
DTSTART;TZID=UTC:20300224T140000
DTEND;TZID=UTC:20300224T160000
DTSTAMP:20260422T232415
CREATED:20260112T221440Z
LAST-MODIFIED:20260112T221750Z
UID:10000851-1898172000-1898179200@www.strasburgparks.org
SUMMARY:Indoor Facility Open Cages
DESCRIPTION:Cost: $25 for 6 visits (Punch Card Purchase Required)
URL:https://www.strasburgparks.org/event/indoor-facility-open-cages/2030-02-24/
LOCATION:Indoor Facility\, 56401 Sunset Ave.\, Strrasburg\, CO\, 80136
ORGANIZER;CN="Sara Rushman":MAILTO:activities@strasburgparks.org
END:VEVENT
BEGIN:VEVENT
DTSTART;TZID=UTC:20300225T140000
DTEND;TZID=UTC:20300225T160000
DTSTAMP:20260422T232415
CREATED:20260112T221440Z
LAST-MODIFIED:20260112T221750Z
UID:10000852-1898258400-1898265600@www.strasburgparks.org
SUMMARY:Indoor Facility Open Cages
DESCRIPTION:Cost: $25 for 6 visits (Punch Card Purchase Required)
URL:https://www.strasburgparks.org/event/indoor-facility-open-cages/2030-02-25/
LOCATION:Indoor Facility\, 56401 Sunset Ave.\, Strrasburg\, CO\, 80136
ORGANIZER;CN="Sara Rushman":MAILTO:activities@strasburgparks.org
END:VEVENT
BEGIN:VEVENT
DTSTART;TZID=UTC:20300301T140000
DTEND;TZID=UTC:20300301T160000
DTSTAMP:20260422T232415
CREATED:20260112T221440Z
LAST-MODIFIED:20260112T221750Z
UID:10000853-1898604000-1898611200@www.strasburgparks.org
SUMMARY:Indoor Facility Open Cages
DESCRIPTION:Cost: $25 for 6 visits (Punch Card Purchase Required)
URL:https://www.strasburgparks.org/event/indoor-facility-open-cages/2030-03-01/
LOCATION:Indoor Facility\, 56401 Sunset Ave.\, Strrasburg\, CO\, 80136
ORGANIZER;CN="Sara Rushman":MAILTO:activities@strasburgparks.org
END:VEVENT
BEGIN:VEVENT
DTSTART;TZID=UTC:20300303T140000
DTEND;TZID=UTC:20300303T160000
DTSTAMP:20260422T232415
CREATED:20260112T221440Z
LAST-MODIFIED:20260112T221750Z
UID:10000854-1898776800-1898784000@www.strasburgparks.org
SUMMARY:Indoor Facility Open Cages
DESCRIPTION:Cost: $25 for 6 visits (Punch Card Purchase Required)
URL:https://www.strasburgparks.org/event/indoor-facility-open-cages/2030-03-03/
LOCATION:Indoor Facility\, 56401 Sunset Ave.\, Strrasburg\, CO\, 80136
ORGANIZER;CN="Sara Rushman":MAILTO:activities@strasburgparks.org
END:VEVENT
BEGIN:VEVENT
DTSTART;TZID=UTC:20300304T140000
DTEND;TZID=UTC:20300304T160000
DTSTAMP:20260422T232415
CREATED:20260112T221440Z
LAST-MODIFIED:20260112T221750Z
UID:10000855-1898863200-1898870400@www.strasburgparks.org
SUMMARY:Indoor Facility Open Cages
DESCRIPTION:Cost: $25 for 6 visits (Punch Card Purchase Required)
URL:https://www.strasburgparks.org/event/indoor-facility-open-cages/2030-03-04/
LOCATION:Indoor Facility\, 56401 Sunset Ave.\, Strrasburg\, CO\, 80136
ORGANIZER;CN="Sara Rushman":MAILTO:activities@strasburgparks.org
END:VEVENT
BEGIN:VEVENT
DTSTART;TZID=UTC:20300308T140000
DTEND;TZID=UTC:20300308T160000
DTSTAMP:20260422T232415
CREATED:20260112T221440Z
LAST-MODIFIED:20260112T221750Z
UID:10000856-1899208800-1899216000@www.strasburgparks.org
SUMMARY:Indoor Facility Open Cages
DESCRIPTION:Cost: $25 for 6 visits (Punch Card Purchase Required)
URL:https://www.strasburgparks.org/event/indoor-facility-open-cages/2030-03-08/
LOCATION:Indoor Facility\, 56401 Sunset Ave.\, Strrasburg\, CO\, 80136
ORGANIZER;CN="Sara Rushman":MAILTO:activities@strasburgparks.org
END:VEVENT
BEGIN:VEVENT
DTSTART;TZID=UTC:20300310T140000
DTEND;TZID=UTC:20300310T160000
DTSTAMP:20260422T232415
CREATED:20260112T221440Z
LAST-MODIFIED:20260112T221750Z
UID:10000857-1899381600-1899388800@www.strasburgparks.org
SUMMARY:Indoor Facility Open Cages
DESCRIPTION:Cost: $25 for 6 visits (Punch Card Purchase Required)
URL:https://www.strasburgparks.org/event/indoor-facility-open-cages/2030-03-10/
LOCATION:Indoor Facility\, 56401 Sunset Ave.\, Strrasburg\, CO\, 80136
ORGANIZER;CN="Sara Rushman":MAILTO:activities@strasburgparks.org
END:VEVENT
BEGIN:VEVENT
DTSTART;TZID=UTC:20300311T140000
DTEND;TZID=UTC:20300311T160000
DTSTAMP:20260422T232415
CREATED:20260112T221440Z
LAST-MODIFIED:20260112T221750Z
UID:10000858-1899468000-1899475200@www.strasburgparks.org
SUMMARY:Indoor Facility Open Cages
DESCRIPTION:Cost: $25 for 6 visits (Punch Card Purchase Required)
URL:https://www.strasburgparks.org/event/indoor-facility-open-cages/2030-03-11/
LOCATION:Indoor Facility\, 56401 Sunset Ave.\, Strrasburg\, CO\, 80136
ORGANIZER;CN="Sara Rushman":MAILTO:activities@strasburgparks.org
END:VEVENT
BEGIN:VEVENT
DTSTART;TZID=UTC:20300315T140000
DTEND;TZID=UTC:20300315T160000
DTSTAMP:20260422T232415
CREATED:20260112T221440Z
LAST-MODIFIED:20260112T221750Z
UID:10000859-1899813600-1899820800@www.strasburgparks.org
SUMMARY:Indoor Facility Open Cages
DESCRIPTION:Cost: $25 for 6 visits (Punch Card Purchase Required)
URL:https://www.strasburgparks.org/event/indoor-facility-open-cages/2030-03-15/
LOCATION:Indoor Facility\, 56401 Sunset Ave.\, Strrasburg\, CO\, 80136
ORGANIZER;CN="Sara Rushman":MAILTO:activities@strasburgparks.org
END:VEVENT
BEGIN:VEVENT
DTSTART;TZID=UTC:20300317T140000
DTEND;TZID=UTC:20300317T160000
DTSTAMP:20260422T232415
CREATED:20260112T221440Z
LAST-MODIFIED:20260112T221750Z
UID:10000860-1899986400-1899993600@www.strasburgparks.org
SUMMARY:Indoor Facility Open Cages
DESCRIPTION:Cost: $25 for 6 visits (Punch Card Purchase Required)
URL:https://www.strasburgparks.org/event/indoor-facility-open-cages/2030-03-17/
LOCATION:Indoor Facility\, 56401 Sunset Ave.\, Strrasburg\, CO\, 80136
ORGANIZER;CN="Sara Rushman":MAILTO:activities@strasburgparks.org
END:VEVENT
BEGIN:VEVENT
DTSTART;TZID=UTC:20300318T140000
DTEND;TZID=UTC:20300318T160000
DTSTAMP:20260422T232415
CREATED:20260112T221440Z
LAST-MODIFIED:20260112T221750Z
UID:10000861-1900072800-1900080000@www.strasburgparks.org
SUMMARY:Indoor Facility Open Cages
DESCRIPTION:Cost: $25 for 6 visits (Punch Card Purchase Required)
URL:https://www.strasburgparks.org/event/indoor-facility-open-cages/2030-03-18/
LOCATION:Indoor Facility\, 56401 Sunset Ave.\, Strrasburg\, CO\, 80136
ORGANIZER;CN="Sara Rushman":MAILTO:activities@strasburgparks.org
END:VEVENT
BEGIN:VEVENT
DTSTART;TZID=UTC:20300322T140000
DTEND;TZID=UTC:20300322T160000
DTSTAMP:20260422T232415
CREATED:20260112T221440Z
LAST-MODIFIED:20260112T221750Z
UID:10000862-1900418400-1900425600@www.strasburgparks.org
SUMMARY:Indoor Facility Open Cages
DESCRIPTION:Cost: $25 for 6 visits (Punch Card Purchase Required)
URL:https://www.strasburgparks.org/event/indoor-facility-open-cages/2030-03-22/
LOCATION:Indoor Facility\, 56401 Sunset Ave.\, Strrasburg\, CO\, 80136
ORGANIZER;CN="Sara Rushman":MAILTO:activities@strasburgparks.org
END:VEVENT
BEGIN:VEVENT
DTSTART;TZID=UTC:20300324T140000
DTEND;TZID=UTC:20300324T160000
DTSTAMP:20260422T232415
CREATED:20260112T221440Z
LAST-MODIFIED:20260112T221750Z
UID:10000863-1900591200-1900598400@www.strasburgparks.org
SUMMARY:Indoor Facility Open Cages
DESCRIPTION:Cost: $25 for 6 visits (Punch Card Purchase Required)
URL:https://www.strasburgparks.org/event/indoor-facility-open-cages/2030-03-24/
LOCATION:Indoor Facility\, 56401 Sunset Ave.\, Strrasburg\, CO\, 80136
ORGANIZER;CN="Sara Rushman":MAILTO:activities@strasburgparks.org
END:VEVENT
BEGIN:VEVENT
DTSTART;TZID=UTC:20300325T140000
DTEND;TZID=UTC:20300325T160000
DTSTAMP:20260422T232415
CREATED:20260112T221440Z
LAST-MODIFIED:20260112T221750Z
UID:10000864-1900677600-1900684800@www.strasburgparks.org
SUMMARY:Indoor Facility Open Cages
DESCRIPTION:Cost: $25 for 6 visits (Punch Card Purchase Required)
URL:https://www.strasburgparks.org/event/indoor-facility-open-cages/2030-03-25/
LOCATION:Indoor Facility\, 56401 Sunset Ave.\, Strrasburg\, CO\, 80136
ORGANIZER;CN="Sara Rushman":MAILTO:activities@strasburgparks.org
END:VEVENT
BEGIN:VEVENT
DTSTART;TZID=UTC:20300329T140000
DTEND;TZID=UTC:20300329T160000
DTSTAMP:20260422T232415
CREATED:20260112T221440Z
LAST-MODIFIED:20260112T221750Z
UID:10000865-1901023200-1901030400@www.strasburgparks.org
SUMMARY:Indoor Facility Open Cages
DESCRIPTION:Cost: $25 for 6 visits (Punch Card Purchase Required)
URL:https://www.strasburgparks.org/event/indoor-facility-open-cages/2030-03-29/
LOCATION:Indoor Facility\, 56401 Sunset Ave.\, Strrasburg\, CO\, 80136
ORGANIZER;CN="Sara Rushman":MAILTO:activities@strasburgparks.org
END:VEVENT
BEGIN:VEVENT
DTSTART;TZID=UTC:20300331T140000
DTEND;TZID=UTC:20300331T160000
DTSTAMP:20260422T232415
CREATED:20260112T221440Z
LAST-MODIFIED:20260112T221750Z
UID:10000866-1901196000-1901203200@www.strasburgparks.org
SUMMARY:Indoor Facility Open Cages
DESCRIPTION:Cost: $25 for 6 visits (Punch Card Purchase Required)
URL:https://www.strasburgparks.org/event/indoor-facility-open-cages/2030-03-31/
LOCATION:Indoor Facility\, 56401 Sunset Ave.\, Strrasburg\, CO\, 80136
ORGANIZER;CN="Sara Rushman":MAILTO:activities@strasburgparks.org
END:VEVENT
BEGIN:VEVENT
DTSTART;TZID=UTC:20300401T140000
DTEND;TZID=UTC:20300401T160000
DTSTAMP:20260422T232415
CREATED:20260112T221440Z
LAST-MODIFIED:20260112T221750Z
UID:10000867-1901282400-1901289600@www.strasburgparks.org
SUMMARY:Indoor Facility Open Cages
DESCRIPTION:Cost: $25 for 6 visits (Punch Card Purchase Required)
URL:https://www.strasburgparks.org/event/indoor-facility-open-cages/2030-04-01/
LOCATION:Indoor Facility\, 56401 Sunset Ave.\, Strrasburg\, CO\, 80136
ORGANIZER;CN="Sara Rushman":MAILTO:activities@strasburgparks.org
END:VEVENT
BEGIN:VEVENT
DTSTART;TZID=UTC:20300405T140000
DTEND;TZID=UTC:20300405T160000
DTSTAMP:20260422T232416
CREATED:20260112T221440Z
LAST-MODIFIED:20260112T221750Z
UID:10000868-1901628000-1901635200@www.strasburgparks.org
SUMMARY:Indoor Facility Open Cages
DESCRIPTION:Cost: $25 for 6 visits (Punch Card Purchase Required)
URL:https://www.strasburgparks.org/event/indoor-facility-open-cages/2030-04-05/
LOCATION:Indoor Facility\, 56401 Sunset Ave.\, Strrasburg\, CO\, 80136
ORGANIZER;CN="Sara Rushman":MAILTO:activities@strasburgparks.org
END:VEVENT
BEGIN:VEVENT
DTSTART;TZID=UTC:20300407T140000
DTEND;TZID=UTC:20300407T160000
DTSTAMP:20260422T232416
CREATED:20260112T221440Z
LAST-MODIFIED:20260112T221750Z
UID:10000869-1901800800-1901808000@www.strasburgparks.org
SUMMARY:Indoor Facility Open Cages
DESCRIPTION:Cost: $25 for 6 visits (Punch Card Purchase Required)
URL:https://www.strasburgparks.org/event/indoor-facility-open-cages/2030-04-07/
LOCATION:Indoor Facility\, 56401 Sunset Ave.\, Strrasburg\, CO\, 80136
ORGANIZER;CN="Sara Rushman":MAILTO:activities@strasburgparks.org
END:VEVENT
BEGIN:VEVENT
DTSTART;TZID=UTC:20300408T140000
DTEND;TZID=UTC:20300408T160000
DTSTAMP:20260422T232416
CREATED:20260112T221440Z
LAST-MODIFIED:20260112T221750Z
UID:10000870-1901887200-1901894400@www.strasburgparks.org
SUMMARY:Indoor Facility Open Cages
DESCRIPTION:Cost: $25 for 6 visits (Punch Card Purchase Required)
URL:https://www.strasburgparks.org/event/indoor-facility-open-cages/2030-04-08/
LOCATION:Indoor Facility\, 56401 Sunset Ave.\, Strrasburg\, CO\, 80136
ORGANIZER;CN="Sara Rushman":MAILTO:activities@strasburgparks.org
END:VEVENT
BEGIN:VEVENT
DTSTART;TZID=UTC:20300412T140000
DTEND;TZID=UTC:20300412T160000
DTSTAMP:20260422T232416
CREATED:20260112T221440Z
LAST-MODIFIED:20260112T221750Z
UID:10000871-1902232800-1902240000@www.strasburgparks.org
SUMMARY:Indoor Facility Open Cages
DESCRIPTION:Cost: $25 for 6 visits (Punch Card Purchase Required)
URL:https://www.strasburgparks.org/event/indoor-facility-open-cages/2030-04-12/
LOCATION:Indoor Facility\, 56401 Sunset Ave.\, Strrasburg\, CO\, 80136
ORGANIZER;CN="Sara Rushman":MAILTO:activities@strasburgparks.org
END:VEVENT
BEGIN:VEVENT
DTSTART;TZID=UTC:20300414T140000
DTEND;TZID=UTC:20300414T160000
DTSTAMP:20260422T232416
CREATED:20260112T221440Z
LAST-MODIFIED:20260112T221750Z
UID:10000872-1902405600-1902412800@www.strasburgparks.org
SUMMARY:Indoor Facility Open Cages
DESCRIPTION:Cost: $25 for 6 visits (Punch Card Purchase Required)
URL:https://www.strasburgparks.org/event/indoor-facility-open-cages/2030-04-14/
LOCATION:Indoor Facility\, 56401 Sunset Ave.\, Strrasburg\, CO\, 80136
ORGANIZER;CN="Sara Rushman":MAILTO:activities@strasburgparks.org
END:VEVENT
BEGIN:VEVENT
DTSTART;TZID=UTC:20300415T140000
DTEND;TZID=UTC:20300415T160000
DTSTAMP:20260422T232416
CREATED:20260112T221440Z
LAST-MODIFIED:20260112T221750Z
UID:10000873-1902492000-1902499200@www.strasburgparks.org
SUMMARY:Indoor Facility Open Cages
DESCRIPTION:Cost: $25 for 6 visits (Punch Card Purchase Required)
URL:https://www.strasburgparks.org/event/indoor-facility-open-cages/2030-04-15/
LOCATION:Indoor Facility\, 56401 Sunset Ave.\, Strrasburg\, CO\, 80136
ORGANIZER;CN="Sara Rushman":MAILTO:activities@strasburgparks.org
END:VEVENT
BEGIN:VEVENT
DTSTART;TZID=UTC:20300419T140000
DTEND;TZID=UTC:20300419T160000
DTSTAMP:20260422T232416
CREATED:20260112T221440Z
LAST-MODIFIED:20260112T221750Z
UID:10000874-1902837600-1902844800@www.strasburgparks.org
SUMMARY:Indoor Facility Open Cages
DESCRIPTION:Cost: $25 for 6 visits (Punch Card Purchase Required)
URL:https://www.strasburgparks.org/event/indoor-facility-open-cages/2030-04-19/
LOCATION:Indoor Facility\, 56401 Sunset Ave.\, Strrasburg\, CO\, 80136
ORGANIZER;CN="Sara Rushman":MAILTO:activities@strasburgparks.org
END:VEVENT
BEGIN:VEVENT
DTSTART;TZID=UTC:20300421T140000
DTEND;TZID=UTC:20300421T160000
DTSTAMP:20260422T232416
CREATED:20260112T221440Z
LAST-MODIFIED:20260112T221750Z
UID:10000875-1903010400-1903017600@www.strasburgparks.org
SUMMARY:Indoor Facility Open Cages
DESCRIPTION:Cost: $25 for 6 visits (Punch Card Purchase Required)
URL:https://www.strasburgparks.org/event/indoor-facility-open-cages/2030-04-21/
LOCATION:Indoor Facility\, 56401 Sunset Ave.\, Strrasburg\, CO\, 80136
ORGANIZER;CN="Sara Rushman":MAILTO:activities@strasburgparks.org
END:VEVENT
END:VCALENDAR