BEGIN:VCALENDAR
VERSION:2.0
PRODID:-//Strasburg Parks &amp; Recreation District - ECPv6.15.13//NONSGML v1.0//EN
CALSCALE:GREGORIAN
METHOD:PUBLISH
X-WR-CALNAME:Strasburg Parks &amp; Recreation District
X-ORIGINAL-URL:https://www.strasburgparks.org
X-WR-CALDESC:Events for Strasburg Parks &amp; Recreation District
REFRESH-INTERVAL;VALUE=DURATION:PT1H
X-Robots-Tag:noindex
X-PUBLISHED-TTL:PT1H
BEGIN:VTIMEZONE
TZID:UTC
BEGIN:STANDARD
TZOFFSETFROM:+0000
TZOFFSETTO:+0000
TZNAME:UTC
DTSTART:20280101T000000
END:STANDARD
END:VTIMEZONE
BEGIN:VEVENT
DTSTART;TZID=UTC:20291112T140000
DTEND;TZID=UTC:20291112T160000
DTSTAMP:20260423T101908
CREATED:20260112T221440Z
LAST-MODIFIED:20260112T221750Z
UID:10000807-1889186400-1889193600@www.strasburgparks.org
SUMMARY:Indoor Facility Open Cages
DESCRIPTION:Cost: $25 for 6 visits (Punch Card Purchase Required)
URL:https://www.strasburgparks.org/event/indoor-facility-open-cages/2029-11-12/
LOCATION:Indoor Facility\, 56401 Sunset Ave.\, Strrasburg\, CO\, 80136
ORGANIZER;CN="Sara Rushman":MAILTO:activities@strasburgparks.org
END:VEVENT
BEGIN:VEVENT
DTSTART;TZID=UTC:20291116T140000
DTEND;TZID=UTC:20291116T160000
DTSTAMP:20260423T101908
CREATED:20260112T221440Z
LAST-MODIFIED:20260112T221750Z
UID:10000808-1889532000-1889539200@www.strasburgparks.org
SUMMARY:Indoor Facility Open Cages
DESCRIPTION:Cost: $25 for 6 visits (Punch Card Purchase Required)
URL:https://www.strasburgparks.org/event/indoor-facility-open-cages/2029-11-16/
LOCATION:Indoor Facility\, 56401 Sunset Ave.\, Strrasburg\, CO\, 80136
ORGANIZER;CN="Sara Rushman":MAILTO:activities@strasburgparks.org
END:VEVENT
BEGIN:VEVENT
DTSTART;TZID=UTC:20291118T140000
DTEND;TZID=UTC:20291118T160000
DTSTAMP:20260423T101908
CREATED:20260112T221440Z
LAST-MODIFIED:20260112T221750Z
UID:10000809-1889704800-1889712000@www.strasburgparks.org
SUMMARY:Indoor Facility Open Cages
DESCRIPTION:Cost: $25 for 6 visits (Punch Card Purchase Required)
URL:https://www.strasburgparks.org/event/indoor-facility-open-cages/2029-11-18/
LOCATION:Indoor Facility\, 56401 Sunset Ave.\, Strrasburg\, CO\, 80136
ORGANIZER;CN="Sara Rushman":MAILTO:activities@strasburgparks.org
END:VEVENT
BEGIN:VEVENT
DTSTART;TZID=UTC:20291119T140000
DTEND;TZID=UTC:20291119T160000
DTSTAMP:20260423T101908
CREATED:20260112T221440Z
LAST-MODIFIED:20260112T221750Z
UID:10000810-1889791200-1889798400@www.strasburgparks.org
SUMMARY:Indoor Facility Open Cages
DESCRIPTION:Cost: $25 for 6 visits (Punch Card Purchase Required)
URL:https://www.strasburgparks.org/event/indoor-facility-open-cages/2029-11-19/
LOCATION:Indoor Facility\, 56401 Sunset Ave.\, Strrasburg\, CO\, 80136
ORGANIZER;CN="Sara Rushman":MAILTO:activities@strasburgparks.org
END:VEVENT
BEGIN:VEVENT
DTSTART;TZID=UTC:20291123T140000
DTEND;TZID=UTC:20291123T160000
DTSTAMP:20260423T101908
CREATED:20260112T221440Z
LAST-MODIFIED:20260112T221750Z
UID:10000811-1890136800-1890144000@www.strasburgparks.org
SUMMARY:Indoor Facility Open Cages
DESCRIPTION:Cost: $25 for 6 visits (Punch Card Purchase Required)
URL:https://www.strasburgparks.org/event/indoor-facility-open-cages/2029-11-23/
LOCATION:Indoor Facility\, 56401 Sunset Ave.\, Strrasburg\, CO\, 80136
ORGANIZER;CN="Sara Rushman":MAILTO:activities@strasburgparks.org
END:VEVENT
BEGIN:VEVENT
DTSTART;TZID=UTC:20291125T140000
DTEND;TZID=UTC:20291125T160000
DTSTAMP:20260423T101908
CREATED:20260112T221440Z
LAST-MODIFIED:20260112T221750Z
UID:10000812-1890309600-1890316800@www.strasburgparks.org
SUMMARY:Indoor Facility Open Cages
DESCRIPTION:Cost: $25 for 6 visits (Punch Card Purchase Required)
URL:https://www.strasburgparks.org/event/indoor-facility-open-cages/2029-11-25/
LOCATION:Indoor Facility\, 56401 Sunset Ave.\, Strrasburg\, CO\, 80136
ORGANIZER;CN="Sara Rushman":MAILTO:activities@strasburgparks.org
END:VEVENT
BEGIN:VEVENT
DTSTART;TZID=UTC:20291126T140000
DTEND;TZID=UTC:20291126T160000
DTSTAMP:20260423T101908
CREATED:20260112T221440Z
LAST-MODIFIED:20260112T221750Z
UID:10000813-1890396000-1890403200@www.strasburgparks.org
SUMMARY:Indoor Facility Open Cages
DESCRIPTION:Cost: $25 for 6 visits (Punch Card Purchase Required)
URL:https://www.strasburgparks.org/event/indoor-facility-open-cages/2029-11-26/
LOCATION:Indoor Facility\, 56401 Sunset Ave.\, Strrasburg\, CO\, 80136
ORGANIZER;CN="Sara Rushman":MAILTO:activities@strasburgparks.org
END:VEVENT
BEGIN:VEVENT
DTSTART;TZID=UTC:20291130T140000
DTEND;TZID=UTC:20291130T160000
DTSTAMP:20260423T101908
CREATED:20260112T221440Z
LAST-MODIFIED:20260112T221750Z
UID:10000814-1890741600-1890748800@www.strasburgparks.org
SUMMARY:Indoor Facility Open Cages
DESCRIPTION:Cost: $25 for 6 visits (Punch Card Purchase Required)
URL:https://www.strasburgparks.org/event/indoor-facility-open-cages/2029-11-30/
LOCATION:Indoor Facility\, 56401 Sunset Ave.\, Strrasburg\, CO\, 80136
ORGANIZER;CN="Sara Rushman":MAILTO:activities@strasburgparks.org
END:VEVENT
BEGIN:VEVENT
DTSTART;TZID=UTC:20291202T140000
DTEND;TZID=UTC:20291202T160000
DTSTAMP:20260423T101908
CREATED:20260112T221440Z
LAST-MODIFIED:20260112T221750Z
UID:10000815-1890914400-1890921600@www.strasburgparks.org
SUMMARY:Indoor Facility Open Cages
DESCRIPTION:Cost: $25 for 6 visits (Punch Card Purchase Required)
URL:https://www.strasburgparks.org/event/indoor-facility-open-cages/2029-12-02/
LOCATION:Indoor Facility\, 56401 Sunset Ave.\, Strrasburg\, CO\, 80136
ORGANIZER;CN="Sara Rushman":MAILTO:activities@strasburgparks.org
END:VEVENT
BEGIN:VEVENT
DTSTART;TZID=UTC:20291203T140000
DTEND;TZID=UTC:20291203T160000
DTSTAMP:20260423T101908
CREATED:20260112T221440Z
LAST-MODIFIED:20260112T221750Z
UID:10000816-1891000800-1891008000@www.strasburgparks.org
SUMMARY:Indoor Facility Open Cages
DESCRIPTION:Cost: $25 for 6 visits (Punch Card Purchase Required)
URL:https://www.strasburgparks.org/event/indoor-facility-open-cages/2029-12-03/
LOCATION:Indoor Facility\, 56401 Sunset Ave.\, Strrasburg\, CO\, 80136
ORGANIZER;CN="Sara Rushman":MAILTO:activities@strasburgparks.org
END:VEVENT
BEGIN:VEVENT
DTSTART;TZID=UTC:20291207T140000
DTEND;TZID=UTC:20291207T160000
DTSTAMP:20260423T101908
CREATED:20260112T221440Z
LAST-MODIFIED:20260112T221750Z
UID:10000817-1891346400-1891353600@www.strasburgparks.org
SUMMARY:Indoor Facility Open Cages
DESCRIPTION:Cost: $25 for 6 visits (Punch Card Purchase Required)
URL:https://www.strasburgparks.org/event/indoor-facility-open-cages/2029-12-07/
LOCATION:Indoor Facility\, 56401 Sunset Ave.\, Strrasburg\, CO\, 80136
ORGANIZER;CN="Sara Rushman":MAILTO:activities@strasburgparks.org
END:VEVENT
BEGIN:VEVENT
DTSTART;TZID=UTC:20291209T140000
DTEND;TZID=UTC:20291209T160000
DTSTAMP:20260423T101908
CREATED:20260112T221440Z
LAST-MODIFIED:20260112T221750Z
UID:10000818-1891519200-1891526400@www.strasburgparks.org
SUMMARY:Indoor Facility Open Cages
DESCRIPTION:Cost: $25 for 6 visits (Punch Card Purchase Required)
URL:https://www.strasburgparks.org/event/indoor-facility-open-cages/2029-12-09/
LOCATION:Indoor Facility\, 56401 Sunset Ave.\, Strrasburg\, CO\, 80136
ORGANIZER;CN="Sara Rushman":MAILTO:activities@strasburgparks.org
END:VEVENT
BEGIN:VEVENT
DTSTART;TZID=UTC:20291210T140000
DTEND;TZID=UTC:20291210T160000
DTSTAMP:20260423T101908
CREATED:20260112T221440Z
LAST-MODIFIED:20260112T221750Z
UID:10000819-1891605600-1891612800@www.strasburgparks.org
SUMMARY:Indoor Facility Open Cages
DESCRIPTION:Cost: $25 for 6 visits (Punch Card Purchase Required)
URL:https://www.strasburgparks.org/event/indoor-facility-open-cages/2029-12-10/
LOCATION:Indoor Facility\, 56401 Sunset Ave.\, Strrasburg\, CO\, 80136
ORGANIZER;CN="Sara Rushman":MAILTO:activities@strasburgparks.org
END:VEVENT
BEGIN:VEVENT
DTSTART;TZID=UTC:20291214T140000
DTEND;TZID=UTC:20291214T160000
DTSTAMP:20260423T101908
CREATED:20260112T221440Z
LAST-MODIFIED:20260112T221750Z
UID:10000820-1891951200-1891958400@www.strasburgparks.org
SUMMARY:Indoor Facility Open Cages
DESCRIPTION:Cost: $25 for 6 visits (Punch Card Purchase Required)
URL:https://www.strasburgparks.org/event/indoor-facility-open-cages/2029-12-14/
LOCATION:Indoor Facility\, 56401 Sunset Ave.\, Strrasburg\, CO\, 80136
ORGANIZER;CN="Sara Rushman":MAILTO:activities@strasburgparks.org
END:VEVENT
BEGIN:VEVENT
DTSTART;TZID=UTC:20291216T140000
DTEND;TZID=UTC:20291216T160000
DTSTAMP:20260423T101908
CREATED:20260112T221440Z
LAST-MODIFIED:20260112T221750Z
UID:10000821-1892124000-1892131200@www.strasburgparks.org
SUMMARY:Indoor Facility Open Cages
DESCRIPTION:Cost: $25 for 6 visits (Punch Card Purchase Required)
URL:https://www.strasburgparks.org/event/indoor-facility-open-cages/2029-12-16/
LOCATION:Indoor Facility\, 56401 Sunset Ave.\, Strrasburg\, CO\, 80136
ORGANIZER;CN="Sara Rushman":MAILTO:activities@strasburgparks.org
END:VEVENT
BEGIN:VEVENT
DTSTART;TZID=UTC:20291217T140000
DTEND;TZID=UTC:20291217T160000
DTSTAMP:20260423T101908
CREATED:20260112T221440Z
LAST-MODIFIED:20260112T221750Z
UID:10000822-1892210400-1892217600@www.strasburgparks.org
SUMMARY:Indoor Facility Open Cages
DESCRIPTION:Cost: $25 for 6 visits (Punch Card Purchase Required)
URL:https://www.strasburgparks.org/event/indoor-facility-open-cages/2029-12-17/
LOCATION:Indoor Facility\, 56401 Sunset Ave.\, Strrasburg\, CO\, 80136
ORGANIZER;CN="Sara Rushman":MAILTO:activities@strasburgparks.org
END:VEVENT
BEGIN:VEVENT
DTSTART;TZID=UTC:20291221T140000
DTEND;TZID=UTC:20291221T160000
DTSTAMP:20260423T101908
CREATED:20260112T221440Z
LAST-MODIFIED:20260112T221750Z
UID:10000823-1892556000-1892563200@www.strasburgparks.org
SUMMARY:Indoor Facility Open Cages
DESCRIPTION:Cost: $25 for 6 visits (Punch Card Purchase Required)
URL:https://www.strasburgparks.org/event/indoor-facility-open-cages/2029-12-21/
LOCATION:Indoor Facility\, 56401 Sunset Ave.\, Strrasburg\, CO\, 80136
ORGANIZER;CN="Sara Rushman":MAILTO:activities@strasburgparks.org
END:VEVENT
BEGIN:VEVENT
DTSTART;TZID=UTC:20291223T140000
DTEND;TZID=UTC:20291223T160000
DTSTAMP:20260423T101908
CREATED:20260112T221440Z
LAST-MODIFIED:20260112T221750Z
UID:10000824-1892728800-1892736000@www.strasburgparks.org
SUMMARY:Indoor Facility Open Cages
DESCRIPTION:Cost: $25 for 6 visits (Punch Card Purchase Required)
URL:https://www.strasburgparks.org/event/indoor-facility-open-cages/2029-12-23/
LOCATION:Indoor Facility\, 56401 Sunset Ave.\, Strrasburg\, CO\, 80136
ORGANIZER;CN="Sara Rushman":MAILTO:activities@strasburgparks.org
END:VEVENT
BEGIN:VEVENT
DTSTART;TZID=UTC:20291224T140000
DTEND;TZID=UTC:20291224T160000
DTSTAMP:20260423T101908
CREATED:20260112T221440Z
LAST-MODIFIED:20260112T221750Z
UID:10000825-1892815200-1892822400@www.strasburgparks.org
SUMMARY:Indoor Facility Open Cages
DESCRIPTION:Cost: $25 for 6 visits (Punch Card Purchase Required)
URL:https://www.strasburgparks.org/event/indoor-facility-open-cages/2029-12-24/
LOCATION:Indoor Facility\, 56401 Sunset Ave.\, Strrasburg\, CO\, 80136
ORGANIZER;CN="Sara Rushman":MAILTO:activities@strasburgparks.org
END:VEVENT
BEGIN:VEVENT
DTSTART;TZID=UTC:20291228T140000
DTEND;TZID=UTC:20291228T160000
DTSTAMP:20260423T101908
CREATED:20260112T221440Z
LAST-MODIFIED:20260112T221750Z
UID:10000826-1893160800-1893168000@www.strasburgparks.org
SUMMARY:Indoor Facility Open Cages
DESCRIPTION:Cost: $25 for 6 visits (Punch Card Purchase Required)
URL:https://www.strasburgparks.org/event/indoor-facility-open-cages/2029-12-28/
LOCATION:Indoor Facility\, 56401 Sunset Ave.\, Strrasburg\, CO\, 80136
ORGANIZER;CN="Sara Rushman":MAILTO:activities@strasburgparks.org
END:VEVENT
BEGIN:VEVENT
DTSTART;TZID=UTC:20291230T140000
DTEND;TZID=UTC:20291230T160000
DTSTAMP:20260423T101908
CREATED:20260112T221440Z
LAST-MODIFIED:20260112T221750Z
UID:10000827-1893333600-1893340800@www.strasburgparks.org
SUMMARY:Indoor Facility Open Cages
DESCRIPTION:Cost: $25 for 6 visits (Punch Card Purchase Required)
URL:https://www.strasburgparks.org/event/indoor-facility-open-cages/2029-12-30/
LOCATION:Indoor Facility\, 56401 Sunset Ave.\, Strrasburg\, CO\, 80136
ORGANIZER;CN="Sara Rushman":MAILTO:activities@strasburgparks.org
END:VEVENT
BEGIN:VEVENT
DTSTART;TZID=UTC:20291231T140000
DTEND;TZID=UTC:20291231T160000
DTSTAMP:20260423T101908
CREATED:20260112T221440Z
LAST-MODIFIED:20260112T221750Z
UID:10000828-1893420000-1893427200@www.strasburgparks.org
SUMMARY:Indoor Facility Open Cages
DESCRIPTION:Cost: $25 for 6 visits (Punch Card Purchase Required)
URL:https://www.strasburgparks.org/event/indoor-facility-open-cages/2029-12-31/
LOCATION:Indoor Facility\, 56401 Sunset Ave.\, Strrasburg\, CO\, 80136
ORGANIZER;CN="Sara Rushman":MAILTO:activities@strasburgparks.org
END:VEVENT
BEGIN:VEVENT
DTSTART;TZID=UTC:20300104T140000
DTEND;TZID=UTC:20300104T160000
DTSTAMP:20260423T101908
CREATED:20260112T221440Z
LAST-MODIFIED:20260112T221750Z
UID:10000829-1893765600-1893772800@www.strasburgparks.org
SUMMARY:Indoor Facility Open Cages
DESCRIPTION:Cost: $25 for 6 visits (Punch Card Purchase Required)
URL:https://www.strasburgparks.org/event/indoor-facility-open-cages/2030-01-04/
LOCATION:Indoor Facility\, 56401 Sunset Ave.\, Strrasburg\, CO\, 80136
ORGANIZER;CN="Sara Rushman":MAILTO:activities@strasburgparks.org
END:VEVENT
BEGIN:VEVENT
DTSTART;TZID=UTC:20300106T140000
DTEND;TZID=UTC:20300106T160000
DTSTAMP:20260423T101908
CREATED:20260112T221440Z
LAST-MODIFIED:20260112T221750Z
UID:10000830-1893938400-1893945600@www.strasburgparks.org
SUMMARY:Indoor Facility Open Cages
DESCRIPTION:Cost: $25 for 6 visits (Punch Card Purchase Required)
URL:https://www.strasburgparks.org/event/indoor-facility-open-cages/2030-01-06/
LOCATION:Indoor Facility\, 56401 Sunset Ave.\, Strrasburg\, CO\, 80136
ORGANIZER;CN="Sara Rushman":MAILTO:activities@strasburgparks.org
END:VEVENT
BEGIN:VEVENT
DTSTART;TZID=UTC:20300107T140000
DTEND;TZID=UTC:20300107T160000
DTSTAMP:20260423T101908
CREATED:20260112T221440Z
LAST-MODIFIED:20260112T221750Z
UID:10000831-1894024800-1894032000@www.strasburgparks.org
SUMMARY:Indoor Facility Open Cages
DESCRIPTION:Cost: $25 for 6 visits (Punch Card Purchase Required)
URL:https://www.strasburgparks.org/event/indoor-facility-open-cages/2030-01-07/
LOCATION:Indoor Facility\, 56401 Sunset Ave.\, Strrasburg\, CO\, 80136
ORGANIZER;CN="Sara Rushman":MAILTO:activities@strasburgparks.org
END:VEVENT
BEGIN:VEVENT
DTSTART;TZID=UTC:20300111T140000
DTEND;TZID=UTC:20300111T160000
DTSTAMP:20260423T101908
CREATED:20260112T221440Z
LAST-MODIFIED:20260112T221750Z
UID:10000832-1894370400-1894377600@www.strasburgparks.org
SUMMARY:Indoor Facility Open Cages
DESCRIPTION:Cost: $25 for 6 visits (Punch Card Purchase Required)
URL:https://www.strasburgparks.org/event/indoor-facility-open-cages/2030-01-11/
LOCATION:Indoor Facility\, 56401 Sunset Ave.\, Strrasburg\, CO\, 80136
ORGANIZER;CN="Sara Rushman":MAILTO:activities@strasburgparks.org
END:VEVENT
BEGIN:VEVENT
DTSTART;TZID=UTC:20300113T140000
DTEND;TZID=UTC:20300113T160000
DTSTAMP:20260423T101908
CREATED:20260112T221440Z
LAST-MODIFIED:20260112T221750Z
UID:10000833-1894543200-1894550400@www.strasburgparks.org
SUMMARY:Indoor Facility Open Cages
DESCRIPTION:Cost: $25 for 6 visits (Punch Card Purchase Required)
URL:https://www.strasburgparks.org/event/indoor-facility-open-cages/2030-01-13/
LOCATION:Indoor Facility\, 56401 Sunset Ave.\, Strrasburg\, CO\, 80136
ORGANIZER;CN="Sara Rushman":MAILTO:activities@strasburgparks.org
END:VEVENT
BEGIN:VEVENT
DTSTART;TZID=UTC:20300114T140000
DTEND;TZID=UTC:20300114T160000
DTSTAMP:20260423T101908
CREATED:20260112T221440Z
LAST-MODIFIED:20260112T221750Z
UID:10000834-1894629600-1894636800@www.strasburgparks.org
SUMMARY:Indoor Facility Open Cages
DESCRIPTION:Cost: $25 for 6 visits (Punch Card Purchase Required)
URL:https://www.strasburgparks.org/event/indoor-facility-open-cages/2030-01-14/
LOCATION:Indoor Facility\, 56401 Sunset Ave.\, Strrasburg\, CO\, 80136
ORGANIZER;CN="Sara Rushman":MAILTO:activities@strasburgparks.org
END:VEVENT
BEGIN:VEVENT
DTSTART;TZID=UTC:20300118T140000
DTEND;TZID=UTC:20300118T160000
DTSTAMP:20260423T101908
CREATED:20260112T221440Z
LAST-MODIFIED:20260112T221750Z
UID:10000835-1894975200-1894982400@www.strasburgparks.org
SUMMARY:Indoor Facility Open Cages
DESCRIPTION:Cost: $25 for 6 visits (Punch Card Purchase Required)
URL:https://www.strasburgparks.org/event/indoor-facility-open-cages/2030-01-18/
LOCATION:Indoor Facility\, 56401 Sunset Ave.\, Strrasburg\, CO\, 80136
ORGANIZER;CN="Sara Rushman":MAILTO:activities@strasburgparks.org
END:VEVENT
BEGIN:VEVENT
DTSTART;TZID=UTC:20300120T140000
DTEND;TZID=UTC:20300120T160000
DTSTAMP:20260423T101908
CREATED:20260112T221440Z
LAST-MODIFIED:20260112T221750Z
UID:10000836-1895148000-1895155200@www.strasburgparks.org
SUMMARY:Indoor Facility Open Cages
DESCRIPTION:Cost: $25 for 6 visits (Punch Card Purchase Required)
URL:https://www.strasburgparks.org/event/indoor-facility-open-cages/2030-01-20/
LOCATION:Indoor Facility\, 56401 Sunset Ave.\, Strrasburg\, CO\, 80136
ORGANIZER;CN="Sara Rushman":MAILTO:activities@strasburgparks.org
END:VEVENT
END:VCALENDAR