BEGIN:VCALENDAR
VERSION:2.0
PRODID:-//Strasburg Parks &amp; Recreation District - ECPv6.15.13//NONSGML v1.0//EN
CALSCALE:GREGORIAN
METHOD:PUBLISH
X-ORIGINAL-URL:https://www.strasburgparks.org
X-WR-CALDESC:Events for Strasburg Parks &amp; Recreation District
REFRESH-INTERVAL;VALUE=DURATION:PT1H
X-Robots-Tag:noindex
X-PUBLISHED-TTL:PT1H
BEGIN:VTIMEZONE
TZID:UTC
BEGIN:STANDARD
TZOFFSETFROM:+0000
TZOFFSETTO:+0000
TZNAME:UTC
DTSTART:20280101T000000
END:STANDARD
END:VTIMEZONE
BEGIN:VEVENT
DTSTART;TZID=UTC:20290413T140000
DTEND;TZID=UTC:20290413T160000
DTSTAMP:20260422T215050
CREATED:20260112T221440Z
LAST-MODIFIED:20260112T221750Z
UID:10000715-1870783200-1870790400@www.strasburgparks.org
SUMMARY:Indoor Facility Open Cages
DESCRIPTION:Cost: $25 for 6 visits (Punch Card Purchase Required)
URL:https://www.strasburgparks.org/event/indoor-facility-open-cages/2029-04-13/
LOCATION:Indoor Facility\, 56401 Sunset Ave.\, Strrasburg\, CO\, 80136
ORGANIZER;CN="Sara Rushman":MAILTO:activities@strasburgparks.org
END:VEVENT
BEGIN:VEVENT
DTSTART;TZID=UTC:20290415T140000
DTEND;TZID=UTC:20290415T160000
DTSTAMP:20260422T215050
CREATED:20260112T221440Z
LAST-MODIFIED:20260112T221750Z
UID:10000716-1870956000-1870963200@www.strasburgparks.org
SUMMARY:Indoor Facility Open Cages
DESCRIPTION:Cost: $25 for 6 visits (Punch Card Purchase Required)
URL:https://www.strasburgparks.org/event/indoor-facility-open-cages/2029-04-15/
LOCATION:Indoor Facility\, 56401 Sunset Ave.\, Strrasburg\, CO\, 80136
ORGANIZER;CN="Sara Rushman":MAILTO:activities@strasburgparks.org
END:VEVENT
BEGIN:VEVENT
DTSTART;TZID=UTC:20290416T140000
DTEND;TZID=UTC:20290416T160000
DTSTAMP:20260422T215050
CREATED:20260112T221440Z
LAST-MODIFIED:20260112T221750Z
UID:10000717-1871042400-1871049600@www.strasburgparks.org
SUMMARY:Indoor Facility Open Cages
DESCRIPTION:Cost: $25 for 6 visits (Punch Card Purchase Required)
URL:https://www.strasburgparks.org/event/indoor-facility-open-cages/2029-04-16/
LOCATION:Indoor Facility\, 56401 Sunset Ave.\, Strrasburg\, CO\, 80136
ORGANIZER;CN="Sara Rushman":MAILTO:activities@strasburgparks.org
END:VEVENT
BEGIN:VEVENT
DTSTART;TZID=UTC:20290420T140000
DTEND;TZID=UTC:20290420T160000
DTSTAMP:20260422T215050
CREATED:20260112T221440Z
LAST-MODIFIED:20260112T221750Z
UID:10000718-1871388000-1871395200@www.strasburgparks.org
SUMMARY:Indoor Facility Open Cages
DESCRIPTION:Cost: $25 for 6 visits (Punch Card Purchase Required)
URL:https://www.strasburgparks.org/event/indoor-facility-open-cages/2029-04-20/
LOCATION:Indoor Facility\, 56401 Sunset Ave.\, Strrasburg\, CO\, 80136
ORGANIZER;CN="Sara Rushman":MAILTO:activities@strasburgparks.org
END:VEVENT
BEGIN:VEVENT
DTSTART;TZID=UTC:20290422T140000
DTEND;TZID=UTC:20290422T160000
DTSTAMP:20260422T215050
CREATED:20260112T221440Z
LAST-MODIFIED:20260112T221750Z
UID:10000719-1871560800-1871568000@www.strasburgparks.org
SUMMARY:Indoor Facility Open Cages
DESCRIPTION:Cost: $25 for 6 visits (Punch Card Purchase Required)
URL:https://www.strasburgparks.org/event/indoor-facility-open-cages/2029-04-22/
LOCATION:Indoor Facility\, 56401 Sunset Ave.\, Strrasburg\, CO\, 80136
ORGANIZER;CN="Sara Rushman":MAILTO:activities@strasburgparks.org
END:VEVENT
BEGIN:VEVENT
DTSTART;TZID=UTC:20290423T140000
DTEND;TZID=UTC:20290423T160000
DTSTAMP:20260422T215050
CREATED:20260112T221440Z
LAST-MODIFIED:20260112T221750Z
UID:10000720-1871647200-1871654400@www.strasburgparks.org
SUMMARY:Indoor Facility Open Cages
DESCRIPTION:Cost: $25 for 6 visits (Punch Card Purchase Required)
URL:https://www.strasburgparks.org/event/indoor-facility-open-cages/2029-04-23/
LOCATION:Indoor Facility\, 56401 Sunset Ave.\, Strrasburg\, CO\, 80136
ORGANIZER;CN="Sara Rushman":MAILTO:activities@strasburgparks.org
END:VEVENT
BEGIN:VEVENT
DTSTART;TZID=UTC:20290427T140000
DTEND;TZID=UTC:20290427T160000
DTSTAMP:20260422T215050
CREATED:20260112T221440Z
LAST-MODIFIED:20260112T221750Z
UID:10000721-1871992800-1872000000@www.strasburgparks.org
SUMMARY:Indoor Facility Open Cages
DESCRIPTION:Cost: $25 for 6 visits (Punch Card Purchase Required)
URL:https://www.strasburgparks.org/event/indoor-facility-open-cages/2029-04-27/
LOCATION:Indoor Facility\, 56401 Sunset Ave.\, Strrasburg\, CO\, 80136
ORGANIZER;CN="Sara Rushman":MAILTO:activities@strasburgparks.org
END:VEVENT
BEGIN:VEVENT
DTSTART;TZID=UTC:20290429T140000
DTEND;TZID=UTC:20290429T160000
DTSTAMP:20260422T215050
CREATED:20260112T221440Z
LAST-MODIFIED:20260112T221750Z
UID:10000722-1872165600-1872172800@www.strasburgparks.org
SUMMARY:Indoor Facility Open Cages
DESCRIPTION:Cost: $25 for 6 visits (Punch Card Purchase Required)
URL:https://www.strasburgparks.org/event/indoor-facility-open-cages/2029-04-29/
LOCATION:Indoor Facility\, 56401 Sunset Ave.\, Strrasburg\, CO\, 80136
ORGANIZER;CN="Sara Rushman":MAILTO:activities@strasburgparks.org
END:VEVENT
BEGIN:VEVENT
DTSTART;TZID=UTC:20290430T140000
DTEND;TZID=UTC:20290430T160000
DTSTAMP:20260422T215050
CREATED:20260112T221440Z
LAST-MODIFIED:20260112T221750Z
UID:10000723-1872252000-1872259200@www.strasburgparks.org
SUMMARY:Indoor Facility Open Cages
DESCRIPTION:Cost: $25 for 6 visits (Punch Card Purchase Required)
URL:https://www.strasburgparks.org/event/indoor-facility-open-cages/2029-04-30/
LOCATION:Indoor Facility\, 56401 Sunset Ave.\, Strrasburg\, CO\, 80136
ORGANIZER;CN="Sara Rushman":MAILTO:activities@strasburgparks.org
END:VEVENT
BEGIN:VEVENT
DTSTART;TZID=UTC:20290504T140000
DTEND;TZID=UTC:20290504T160000
DTSTAMP:20260422T215050
CREATED:20260112T221440Z
LAST-MODIFIED:20260112T221750Z
UID:10000724-1872597600-1872604800@www.strasburgparks.org
SUMMARY:Indoor Facility Open Cages
DESCRIPTION:Cost: $25 for 6 visits (Punch Card Purchase Required)
URL:https://www.strasburgparks.org/event/indoor-facility-open-cages/2029-05-04/
LOCATION:Indoor Facility\, 56401 Sunset Ave.\, Strrasburg\, CO\, 80136
ORGANIZER;CN="Sara Rushman":MAILTO:activities@strasburgparks.org
END:VEVENT
BEGIN:VEVENT
DTSTART;TZID=UTC:20290506T140000
DTEND;TZID=UTC:20290506T160000
DTSTAMP:20260422T215050
CREATED:20260112T221440Z
LAST-MODIFIED:20260112T221750Z
UID:10000725-1872770400-1872777600@www.strasburgparks.org
SUMMARY:Indoor Facility Open Cages
DESCRIPTION:Cost: $25 for 6 visits (Punch Card Purchase Required)
URL:https://www.strasburgparks.org/event/indoor-facility-open-cages/2029-05-06/
LOCATION:Indoor Facility\, 56401 Sunset Ave.\, Strrasburg\, CO\, 80136
ORGANIZER;CN="Sara Rushman":MAILTO:activities@strasburgparks.org
END:VEVENT
BEGIN:VEVENT
DTSTART;TZID=UTC:20290507T140000
DTEND;TZID=UTC:20290507T160000
DTSTAMP:20260422T215050
CREATED:20260112T221440Z
LAST-MODIFIED:20260112T221750Z
UID:10000726-1872856800-1872864000@www.strasburgparks.org
SUMMARY:Indoor Facility Open Cages
DESCRIPTION:Cost: $25 for 6 visits (Punch Card Purchase Required)
URL:https://www.strasburgparks.org/event/indoor-facility-open-cages/2029-05-07/
LOCATION:Indoor Facility\, 56401 Sunset Ave.\, Strrasburg\, CO\, 80136
ORGANIZER;CN="Sara Rushman":MAILTO:activities@strasburgparks.org
END:VEVENT
BEGIN:VEVENT
DTSTART;TZID=UTC:20290511T140000
DTEND;TZID=UTC:20290511T160000
DTSTAMP:20260422T215050
CREATED:20260112T221440Z
LAST-MODIFIED:20260112T221750Z
UID:10000727-1873202400-1873209600@www.strasburgparks.org
SUMMARY:Indoor Facility Open Cages
DESCRIPTION:Cost: $25 for 6 visits (Punch Card Purchase Required)
URL:https://www.strasburgparks.org/event/indoor-facility-open-cages/2029-05-11/
LOCATION:Indoor Facility\, 56401 Sunset Ave.\, Strrasburg\, CO\, 80136
ORGANIZER;CN="Sara Rushman":MAILTO:activities@strasburgparks.org
END:VEVENT
BEGIN:VEVENT
DTSTART;TZID=UTC:20290513T140000
DTEND;TZID=UTC:20290513T160000
DTSTAMP:20260422T215050
CREATED:20260112T221440Z
LAST-MODIFIED:20260112T221750Z
UID:10000728-1873375200-1873382400@www.strasburgparks.org
SUMMARY:Indoor Facility Open Cages
DESCRIPTION:Cost: $25 for 6 visits (Punch Card Purchase Required)
URL:https://www.strasburgparks.org/event/indoor-facility-open-cages/2029-05-13/
LOCATION:Indoor Facility\, 56401 Sunset Ave.\, Strrasburg\, CO\, 80136
ORGANIZER;CN="Sara Rushman":MAILTO:activities@strasburgparks.org
END:VEVENT
BEGIN:VEVENT
DTSTART;TZID=UTC:20290514T140000
DTEND;TZID=UTC:20290514T160000
DTSTAMP:20260422T215050
CREATED:20260112T221440Z
LAST-MODIFIED:20260112T221750Z
UID:10000729-1873461600-1873468800@www.strasburgparks.org
SUMMARY:Indoor Facility Open Cages
DESCRIPTION:Cost: $25 for 6 visits (Punch Card Purchase Required)
URL:https://www.strasburgparks.org/event/indoor-facility-open-cages/2029-05-14/
LOCATION:Indoor Facility\, 56401 Sunset Ave.\, Strrasburg\, CO\, 80136
ORGANIZER;CN="Sara Rushman":MAILTO:activities@strasburgparks.org
END:VEVENT
BEGIN:VEVENT
DTSTART;TZID=UTC:20290518T140000
DTEND;TZID=UTC:20290518T160000
DTSTAMP:20260422T215050
CREATED:20260112T221440Z
LAST-MODIFIED:20260112T221750Z
UID:10000730-1873807200-1873814400@www.strasburgparks.org
SUMMARY:Indoor Facility Open Cages
DESCRIPTION:Cost: $25 for 6 visits (Punch Card Purchase Required)
URL:https://www.strasburgparks.org/event/indoor-facility-open-cages/2029-05-18/
LOCATION:Indoor Facility\, 56401 Sunset Ave.\, Strrasburg\, CO\, 80136
ORGANIZER;CN="Sara Rushman":MAILTO:activities@strasburgparks.org
END:VEVENT
BEGIN:VEVENT
DTSTART;TZID=UTC:20290520T140000
DTEND;TZID=UTC:20290520T160000
DTSTAMP:20260422T215050
CREATED:20260112T221440Z
LAST-MODIFIED:20260112T221750Z
UID:10000731-1873980000-1873987200@www.strasburgparks.org
SUMMARY:Indoor Facility Open Cages
DESCRIPTION:Cost: $25 for 6 visits (Punch Card Purchase Required)
URL:https://www.strasburgparks.org/event/indoor-facility-open-cages/2029-05-20/
LOCATION:Indoor Facility\, 56401 Sunset Ave.\, Strrasburg\, CO\, 80136
ORGANIZER;CN="Sara Rushman":MAILTO:activities@strasburgparks.org
END:VEVENT
BEGIN:VEVENT
DTSTART;TZID=UTC:20290521T140000
DTEND;TZID=UTC:20290521T160000
DTSTAMP:20260422T215050
CREATED:20260112T221440Z
LAST-MODIFIED:20260112T221750Z
UID:10000732-1874066400-1874073600@www.strasburgparks.org
SUMMARY:Indoor Facility Open Cages
DESCRIPTION:Cost: $25 for 6 visits (Punch Card Purchase Required)
URL:https://www.strasburgparks.org/event/indoor-facility-open-cages/2029-05-21/
LOCATION:Indoor Facility\, 56401 Sunset Ave.\, Strrasburg\, CO\, 80136
ORGANIZER;CN="Sara Rushman":MAILTO:activities@strasburgparks.org
END:VEVENT
BEGIN:VEVENT
DTSTART;TZID=UTC:20290525T140000
DTEND;TZID=UTC:20290525T160000
DTSTAMP:20260422T215050
CREATED:20260112T221440Z
LAST-MODIFIED:20260112T221750Z
UID:10000733-1874412000-1874419200@www.strasburgparks.org
SUMMARY:Indoor Facility Open Cages
DESCRIPTION:Cost: $25 for 6 visits (Punch Card Purchase Required)
URL:https://www.strasburgparks.org/event/indoor-facility-open-cages/2029-05-25/
LOCATION:Indoor Facility\, 56401 Sunset Ave.\, Strrasburg\, CO\, 80136
ORGANIZER;CN="Sara Rushman":MAILTO:activities@strasburgparks.org
END:VEVENT
BEGIN:VEVENT
DTSTART;TZID=UTC:20290527T140000
DTEND;TZID=UTC:20290527T160000
DTSTAMP:20260422T215050
CREATED:20260112T221440Z
LAST-MODIFIED:20260112T221750Z
UID:10000734-1874584800-1874592000@www.strasburgparks.org
SUMMARY:Indoor Facility Open Cages
DESCRIPTION:Cost: $25 for 6 visits (Punch Card Purchase Required)
URL:https://www.strasburgparks.org/event/indoor-facility-open-cages/2029-05-27/
LOCATION:Indoor Facility\, 56401 Sunset Ave.\, Strrasburg\, CO\, 80136
ORGANIZER;CN="Sara Rushman":MAILTO:activities@strasburgparks.org
END:VEVENT
BEGIN:VEVENT
DTSTART;TZID=UTC:20290528T140000
DTEND;TZID=UTC:20290528T160000
DTSTAMP:20260422T215050
CREATED:20260112T221440Z
LAST-MODIFIED:20260112T221750Z
UID:10000735-1874671200-1874678400@www.strasburgparks.org
SUMMARY:Indoor Facility Open Cages
DESCRIPTION:Cost: $25 for 6 visits (Punch Card Purchase Required)
URL:https://www.strasburgparks.org/event/indoor-facility-open-cages/2029-05-28/
LOCATION:Indoor Facility\, 56401 Sunset Ave.\, Strrasburg\, CO\, 80136
ORGANIZER;CN="Sara Rushman":MAILTO:activities@strasburgparks.org
END:VEVENT
BEGIN:VEVENT
DTSTART;TZID=UTC:20290601T140000
DTEND;TZID=UTC:20290601T160000
DTSTAMP:20260422T215050
CREATED:20260112T221440Z
LAST-MODIFIED:20260112T221750Z
UID:10000736-1875016800-1875024000@www.strasburgparks.org
SUMMARY:Indoor Facility Open Cages
DESCRIPTION:Cost: $25 for 6 visits (Punch Card Purchase Required)
URL:https://www.strasburgparks.org/event/indoor-facility-open-cages/2029-06-01/
LOCATION:Indoor Facility\, 56401 Sunset Ave.\, Strrasburg\, CO\, 80136
ORGANIZER;CN="Sara Rushman":MAILTO:activities@strasburgparks.org
END:VEVENT
BEGIN:VEVENT
DTSTART;TZID=UTC:20290603T140000
DTEND;TZID=UTC:20290603T160000
DTSTAMP:20260422T215050
CREATED:20260112T221440Z
LAST-MODIFIED:20260112T221750Z
UID:10000737-1875189600-1875196800@www.strasburgparks.org
SUMMARY:Indoor Facility Open Cages
DESCRIPTION:Cost: $25 for 6 visits (Punch Card Purchase Required)
URL:https://www.strasburgparks.org/event/indoor-facility-open-cages/2029-06-03/
LOCATION:Indoor Facility\, 56401 Sunset Ave.\, Strrasburg\, CO\, 80136
ORGANIZER;CN="Sara Rushman":MAILTO:activities@strasburgparks.org
END:VEVENT
BEGIN:VEVENT
DTSTART;TZID=UTC:20290604T140000
DTEND;TZID=UTC:20290604T160000
DTSTAMP:20260422T215050
CREATED:20260112T221440Z
LAST-MODIFIED:20260112T221750Z
UID:10000738-1875276000-1875283200@www.strasburgparks.org
SUMMARY:Indoor Facility Open Cages
DESCRIPTION:Cost: $25 for 6 visits (Punch Card Purchase Required)
URL:https://www.strasburgparks.org/event/indoor-facility-open-cages/2029-06-04/
LOCATION:Indoor Facility\, 56401 Sunset Ave.\, Strrasburg\, CO\, 80136
ORGANIZER;CN="Sara Rushman":MAILTO:activities@strasburgparks.org
END:VEVENT
BEGIN:VEVENT
DTSTART;TZID=UTC:20290608T140000
DTEND;TZID=UTC:20290608T160000
DTSTAMP:20260422T215050
CREATED:20260112T221440Z
LAST-MODIFIED:20260112T221750Z
UID:10000739-1875621600-1875628800@www.strasburgparks.org
SUMMARY:Indoor Facility Open Cages
DESCRIPTION:Cost: $25 for 6 visits (Punch Card Purchase Required)
URL:https://www.strasburgparks.org/event/indoor-facility-open-cages/2029-06-08/
LOCATION:Indoor Facility\, 56401 Sunset Ave.\, Strrasburg\, CO\, 80136
ORGANIZER;CN="Sara Rushman":MAILTO:activities@strasburgparks.org
END:VEVENT
BEGIN:VEVENT
DTSTART;TZID=UTC:20290610T140000
DTEND;TZID=UTC:20290610T160000
DTSTAMP:20260422T215050
CREATED:20260112T221440Z
LAST-MODIFIED:20260112T221750Z
UID:10000740-1875794400-1875801600@www.strasburgparks.org
SUMMARY:Indoor Facility Open Cages
DESCRIPTION:Cost: $25 for 6 visits (Punch Card Purchase Required)
URL:https://www.strasburgparks.org/event/indoor-facility-open-cages/2029-06-10/
LOCATION:Indoor Facility\, 56401 Sunset Ave.\, Strrasburg\, CO\, 80136
ORGANIZER;CN="Sara Rushman":MAILTO:activities@strasburgparks.org
END:VEVENT
BEGIN:VEVENT
DTSTART;TZID=UTC:20290611T140000
DTEND;TZID=UTC:20290611T160000
DTSTAMP:20260422T215050
CREATED:20260112T221440Z
LAST-MODIFIED:20260112T221750Z
UID:10000741-1875880800-1875888000@www.strasburgparks.org
SUMMARY:Indoor Facility Open Cages
DESCRIPTION:Cost: $25 for 6 visits (Punch Card Purchase Required)
URL:https://www.strasburgparks.org/event/indoor-facility-open-cages/2029-06-11/
LOCATION:Indoor Facility\, 56401 Sunset Ave.\, Strrasburg\, CO\, 80136
ORGANIZER;CN="Sara Rushman":MAILTO:activities@strasburgparks.org
END:VEVENT
BEGIN:VEVENT
DTSTART;TZID=UTC:20290615T140000
DTEND;TZID=UTC:20290615T160000
DTSTAMP:20260422T215050
CREATED:20260112T221440Z
LAST-MODIFIED:20260112T221750Z
UID:10000742-1876226400-1876233600@www.strasburgparks.org
SUMMARY:Indoor Facility Open Cages
DESCRIPTION:Cost: $25 for 6 visits (Punch Card Purchase Required)
URL:https://www.strasburgparks.org/event/indoor-facility-open-cages/2029-06-15/
LOCATION:Indoor Facility\, 56401 Sunset Ave.\, Strrasburg\, CO\, 80136
ORGANIZER;CN="Sara Rushman":MAILTO:activities@strasburgparks.org
END:VEVENT
BEGIN:VEVENT
DTSTART;TZID=UTC:20290617T140000
DTEND;TZID=UTC:20290617T160000
DTSTAMP:20260422T215050
CREATED:20260112T221440Z
LAST-MODIFIED:20260112T221750Z
UID:10000743-1876399200-1876406400@www.strasburgparks.org
SUMMARY:Indoor Facility Open Cages
DESCRIPTION:Cost: $25 for 6 visits (Punch Card Purchase Required)
URL:https://www.strasburgparks.org/event/indoor-facility-open-cages/2029-06-17/
LOCATION:Indoor Facility\, 56401 Sunset Ave.\, Strrasburg\, CO\, 80136
ORGANIZER;CN="Sara Rushman":MAILTO:activities@strasburgparks.org
END:VEVENT
BEGIN:VEVENT
DTSTART;TZID=UTC:20290618T140000
DTEND;TZID=UTC:20290618T160000
DTSTAMP:20260422T215050
CREATED:20260112T221440Z
LAST-MODIFIED:20260112T221750Z
UID:10000744-1876485600-1876492800@www.strasburgparks.org
SUMMARY:Indoor Facility Open Cages
DESCRIPTION:Cost: $25 for 6 visits (Punch Card Purchase Required)
URL:https://www.strasburgparks.org/event/indoor-facility-open-cages/2029-06-18/
LOCATION:Indoor Facility\, 56401 Sunset Ave.\, Strrasburg\, CO\, 80136
ORGANIZER;CN="Sara Rushman":MAILTO:activities@strasburgparks.org
END:VEVENT
END:VCALENDAR