BEGIN:VCALENDAR
VERSION:2.0
PRODID:-//Strasburg Parks &amp; Recreation District - ECPv6.15.13//NONSGML v1.0//EN
CALSCALE:GREGORIAN
METHOD:PUBLISH
X-ORIGINAL-URL:https://www.strasburgparks.org
X-WR-CALDESC:Events for Strasburg Parks &amp; Recreation District
REFRESH-INTERVAL;VALUE=DURATION:PT1H
X-Robots-Tag:noindex
X-PUBLISHED-TTL:PT1H
BEGIN:VTIMEZONE
TZID:UTC
BEGIN:STANDARD
TZOFFSETFROM:+0000
TZOFFSETTO:+0000
TZNAME:UTC
DTSTART:20270101T000000
END:STANDARD
END:VTIMEZONE
BEGIN:VEVENT
DTSTART;TZID=UTC:20281001T140000
DTEND;TZID=UTC:20281001T160000
DTSTAMP:20260421T020838
CREATED:20260112T221440Z
LAST-MODIFIED:20260112T221750Z
UID:10000632-1854021600-1854028800@www.strasburgparks.org
SUMMARY:Indoor Facility Open Cages
DESCRIPTION:Cost: $25 for 6 visits (Punch Card Purchase Required)
URL:https://www.strasburgparks.org/event/indoor-facility-open-cages/2028-10-01/
LOCATION:Indoor Facility\, 56401 Sunset Ave.\, Strrasburg\, CO\, 80136
ORGANIZER;CN="Sara Rushman":MAILTO:activities@strasburgparks.org
END:VEVENT
BEGIN:VEVENT
DTSTART;TZID=UTC:20281002T140000
DTEND;TZID=UTC:20281002T160000
DTSTAMP:20260421T020838
CREATED:20260112T221440Z
LAST-MODIFIED:20260112T221750Z
UID:10000633-1854108000-1854115200@www.strasburgparks.org
SUMMARY:Indoor Facility Open Cages
DESCRIPTION:Cost: $25 for 6 visits (Punch Card Purchase Required)
URL:https://www.strasburgparks.org/event/indoor-facility-open-cages/2028-10-02/
LOCATION:Indoor Facility\, 56401 Sunset Ave.\, Strrasburg\, CO\, 80136
ORGANIZER;CN="Sara Rushman":MAILTO:activities@strasburgparks.org
END:VEVENT
BEGIN:VEVENT
DTSTART;TZID=UTC:20281006T140000
DTEND;TZID=UTC:20281006T160000
DTSTAMP:20260421T020838
CREATED:20260112T221440Z
LAST-MODIFIED:20260112T221750Z
UID:10000634-1854453600-1854460800@www.strasburgparks.org
SUMMARY:Indoor Facility Open Cages
DESCRIPTION:Cost: $25 for 6 visits (Punch Card Purchase Required)
URL:https://www.strasburgparks.org/event/indoor-facility-open-cages/2028-10-06/
LOCATION:Indoor Facility\, 56401 Sunset Ave.\, Strrasburg\, CO\, 80136
ORGANIZER;CN="Sara Rushman":MAILTO:activities@strasburgparks.org
END:VEVENT
BEGIN:VEVENT
DTSTART;TZID=UTC:20281008T140000
DTEND;TZID=UTC:20281008T160000
DTSTAMP:20260421T020838
CREATED:20260112T221440Z
LAST-MODIFIED:20260112T221750Z
UID:10000635-1854626400-1854633600@www.strasburgparks.org
SUMMARY:Indoor Facility Open Cages
DESCRIPTION:Cost: $25 for 6 visits (Punch Card Purchase Required)
URL:https://www.strasburgparks.org/event/indoor-facility-open-cages/2028-10-08/
LOCATION:Indoor Facility\, 56401 Sunset Ave.\, Strrasburg\, CO\, 80136
ORGANIZER;CN="Sara Rushman":MAILTO:activities@strasburgparks.org
END:VEVENT
BEGIN:VEVENT
DTSTART;TZID=UTC:20281009T140000
DTEND;TZID=UTC:20281009T160000
DTSTAMP:20260421T020838
CREATED:20260112T221440Z
LAST-MODIFIED:20260112T221750Z
UID:10000636-1854712800-1854720000@www.strasburgparks.org
SUMMARY:Indoor Facility Open Cages
DESCRIPTION:Cost: $25 for 6 visits (Punch Card Purchase Required)
URL:https://www.strasburgparks.org/event/indoor-facility-open-cages/2028-10-09/
LOCATION:Indoor Facility\, 56401 Sunset Ave.\, Strrasburg\, CO\, 80136
ORGANIZER;CN="Sara Rushman":MAILTO:activities@strasburgparks.org
END:VEVENT
BEGIN:VEVENT
DTSTART;TZID=UTC:20281013T140000
DTEND;TZID=UTC:20281013T160000
DTSTAMP:20260421T020838
CREATED:20260112T221440Z
LAST-MODIFIED:20260112T221750Z
UID:10000637-1855058400-1855065600@www.strasburgparks.org
SUMMARY:Indoor Facility Open Cages
DESCRIPTION:Cost: $25 for 6 visits (Punch Card Purchase Required)
URL:https://www.strasburgparks.org/event/indoor-facility-open-cages/2028-10-13/
LOCATION:Indoor Facility\, 56401 Sunset Ave.\, Strrasburg\, CO\, 80136
ORGANIZER;CN="Sara Rushman":MAILTO:activities@strasburgparks.org
END:VEVENT
BEGIN:VEVENT
DTSTART;TZID=UTC:20281015T140000
DTEND;TZID=UTC:20281015T160000
DTSTAMP:20260421T020838
CREATED:20260112T221440Z
LAST-MODIFIED:20260112T221750Z
UID:10000638-1855231200-1855238400@www.strasburgparks.org
SUMMARY:Indoor Facility Open Cages
DESCRIPTION:Cost: $25 for 6 visits (Punch Card Purchase Required)
URL:https://www.strasburgparks.org/event/indoor-facility-open-cages/2028-10-15/
LOCATION:Indoor Facility\, 56401 Sunset Ave.\, Strrasburg\, CO\, 80136
ORGANIZER;CN="Sara Rushman":MAILTO:activities@strasburgparks.org
END:VEVENT
BEGIN:VEVENT
DTSTART;TZID=UTC:20281016T140000
DTEND;TZID=UTC:20281016T160000
DTSTAMP:20260421T020838
CREATED:20260112T221440Z
LAST-MODIFIED:20260112T221750Z
UID:10000639-1855317600-1855324800@www.strasburgparks.org
SUMMARY:Indoor Facility Open Cages
DESCRIPTION:Cost: $25 for 6 visits (Punch Card Purchase Required)
URL:https://www.strasburgparks.org/event/indoor-facility-open-cages/2028-10-16/
LOCATION:Indoor Facility\, 56401 Sunset Ave.\, Strrasburg\, CO\, 80136
ORGANIZER;CN="Sara Rushman":MAILTO:activities@strasburgparks.org
END:VEVENT
BEGIN:VEVENT
DTSTART;TZID=UTC:20281020T140000
DTEND;TZID=UTC:20281020T160000
DTSTAMP:20260421T020838
CREATED:20260112T221440Z
LAST-MODIFIED:20260112T221750Z
UID:10000640-1855663200-1855670400@www.strasburgparks.org
SUMMARY:Indoor Facility Open Cages
DESCRIPTION:Cost: $25 for 6 visits (Punch Card Purchase Required)
URL:https://www.strasburgparks.org/event/indoor-facility-open-cages/2028-10-20/
LOCATION:Indoor Facility\, 56401 Sunset Ave.\, Strrasburg\, CO\, 80136
ORGANIZER;CN="Sara Rushman":MAILTO:activities@strasburgparks.org
END:VEVENT
BEGIN:VEVENT
DTSTART;TZID=UTC:20281022T140000
DTEND;TZID=UTC:20281022T160000
DTSTAMP:20260421T020838
CREATED:20260112T221440Z
LAST-MODIFIED:20260112T221750Z
UID:10000641-1855836000-1855843200@www.strasburgparks.org
SUMMARY:Indoor Facility Open Cages
DESCRIPTION:Cost: $25 for 6 visits (Punch Card Purchase Required)
URL:https://www.strasburgparks.org/event/indoor-facility-open-cages/2028-10-22/
LOCATION:Indoor Facility\, 56401 Sunset Ave.\, Strrasburg\, CO\, 80136
ORGANIZER;CN="Sara Rushman":MAILTO:activities@strasburgparks.org
END:VEVENT
BEGIN:VEVENT
DTSTART;TZID=UTC:20281023T140000
DTEND;TZID=UTC:20281023T160000
DTSTAMP:20260421T020838
CREATED:20260112T221440Z
LAST-MODIFIED:20260112T221750Z
UID:10000642-1855922400-1855929600@www.strasburgparks.org
SUMMARY:Indoor Facility Open Cages
DESCRIPTION:Cost: $25 for 6 visits (Punch Card Purchase Required)
URL:https://www.strasburgparks.org/event/indoor-facility-open-cages/2028-10-23/
LOCATION:Indoor Facility\, 56401 Sunset Ave.\, Strrasburg\, CO\, 80136
ORGANIZER;CN="Sara Rushman":MAILTO:activities@strasburgparks.org
END:VEVENT
BEGIN:VEVENT
DTSTART;TZID=UTC:20281027T140000
DTEND;TZID=UTC:20281027T160000
DTSTAMP:20260421T020838
CREATED:20260112T221440Z
LAST-MODIFIED:20260112T221750Z
UID:10000643-1856268000-1856275200@www.strasburgparks.org
SUMMARY:Indoor Facility Open Cages
DESCRIPTION:Cost: $25 for 6 visits (Punch Card Purchase Required)
URL:https://www.strasburgparks.org/event/indoor-facility-open-cages/2028-10-27/
LOCATION:Indoor Facility\, 56401 Sunset Ave.\, Strrasburg\, CO\, 80136
ORGANIZER;CN="Sara Rushman":MAILTO:activities@strasburgparks.org
END:VEVENT
BEGIN:VEVENT
DTSTART;TZID=UTC:20281029T140000
DTEND;TZID=UTC:20281029T160000
DTSTAMP:20260421T020838
CREATED:20260112T221440Z
LAST-MODIFIED:20260112T221750Z
UID:10000644-1856440800-1856448000@www.strasburgparks.org
SUMMARY:Indoor Facility Open Cages
DESCRIPTION:Cost: $25 for 6 visits (Punch Card Purchase Required)
URL:https://www.strasburgparks.org/event/indoor-facility-open-cages/2028-10-29/
LOCATION:Indoor Facility\, 56401 Sunset Ave.\, Strrasburg\, CO\, 80136
ORGANIZER;CN="Sara Rushman":MAILTO:activities@strasburgparks.org
END:VEVENT
BEGIN:VEVENT
DTSTART;TZID=UTC:20281030T140000
DTEND;TZID=UTC:20281030T160000
DTSTAMP:20260421T020838
CREATED:20260112T221440Z
LAST-MODIFIED:20260112T221750Z
UID:10000645-1856527200-1856534400@www.strasburgparks.org
SUMMARY:Indoor Facility Open Cages
DESCRIPTION:Cost: $25 for 6 visits (Punch Card Purchase Required)
URL:https://www.strasburgparks.org/event/indoor-facility-open-cages/2028-10-30/
LOCATION:Indoor Facility\, 56401 Sunset Ave.\, Strrasburg\, CO\, 80136
ORGANIZER;CN="Sara Rushman":MAILTO:activities@strasburgparks.org
END:VEVENT
BEGIN:VEVENT
DTSTART;TZID=UTC:20281103T140000
DTEND;TZID=UTC:20281103T160000
DTSTAMP:20260421T020838
CREATED:20260112T221440Z
LAST-MODIFIED:20260112T221750Z
UID:10000646-1856872800-1856880000@www.strasburgparks.org
SUMMARY:Indoor Facility Open Cages
DESCRIPTION:Cost: $25 for 6 visits (Punch Card Purchase Required)
URL:https://www.strasburgparks.org/event/indoor-facility-open-cages/2028-11-03/
LOCATION:Indoor Facility\, 56401 Sunset Ave.\, Strrasburg\, CO\, 80136
ORGANIZER;CN="Sara Rushman":MAILTO:activities@strasburgparks.org
END:VEVENT
BEGIN:VEVENT
DTSTART;TZID=UTC:20281105T140000
DTEND;TZID=UTC:20281105T160000
DTSTAMP:20260421T020838
CREATED:20260112T221440Z
LAST-MODIFIED:20260112T221750Z
UID:10000647-1857045600-1857052800@www.strasburgparks.org
SUMMARY:Indoor Facility Open Cages
DESCRIPTION:Cost: $25 for 6 visits (Punch Card Purchase Required)
URL:https://www.strasburgparks.org/event/indoor-facility-open-cages/2028-11-05/
LOCATION:Indoor Facility\, 56401 Sunset Ave.\, Strrasburg\, CO\, 80136
ORGANIZER;CN="Sara Rushman":MAILTO:activities@strasburgparks.org
END:VEVENT
BEGIN:VEVENT
DTSTART;TZID=UTC:20281106T140000
DTEND;TZID=UTC:20281106T160000
DTSTAMP:20260421T020838
CREATED:20260112T221440Z
LAST-MODIFIED:20260112T221750Z
UID:10000648-1857132000-1857139200@www.strasburgparks.org
SUMMARY:Indoor Facility Open Cages
DESCRIPTION:Cost: $25 for 6 visits (Punch Card Purchase Required)
URL:https://www.strasburgparks.org/event/indoor-facility-open-cages/2028-11-06/
LOCATION:Indoor Facility\, 56401 Sunset Ave.\, Strrasburg\, CO\, 80136
ORGANIZER;CN="Sara Rushman":MAILTO:activities@strasburgparks.org
END:VEVENT
BEGIN:VEVENT
DTSTART;TZID=UTC:20281110T140000
DTEND;TZID=UTC:20281110T160000
DTSTAMP:20260421T020838
CREATED:20260112T221440Z
LAST-MODIFIED:20260112T221750Z
UID:10000649-1857477600-1857484800@www.strasburgparks.org
SUMMARY:Indoor Facility Open Cages
DESCRIPTION:Cost: $25 for 6 visits (Punch Card Purchase Required)
URL:https://www.strasburgparks.org/event/indoor-facility-open-cages/2028-11-10/
LOCATION:Indoor Facility\, 56401 Sunset Ave.\, Strrasburg\, CO\, 80136
ORGANIZER;CN="Sara Rushman":MAILTO:activities@strasburgparks.org
END:VEVENT
BEGIN:VEVENT
DTSTART;TZID=UTC:20281112T140000
DTEND;TZID=UTC:20281112T160000
DTSTAMP:20260421T020838
CREATED:20260112T221440Z
LAST-MODIFIED:20260112T221750Z
UID:10000650-1857650400-1857657600@www.strasburgparks.org
SUMMARY:Indoor Facility Open Cages
DESCRIPTION:Cost: $25 for 6 visits (Punch Card Purchase Required)
URL:https://www.strasburgparks.org/event/indoor-facility-open-cages/2028-11-12/
LOCATION:Indoor Facility\, 56401 Sunset Ave.\, Strrasburg\, CO\, 80136
ORGANIZER;CN="Sara Rushman":MAILTO:activities@strasburgparks.org
END:VEVENT
BEGIN:VEVENT
DTSTART;TZID=UTC:20281113T140000
DTEND;TZID=UTC:20281113T160000
DTSTAMP:20260421T020838
CREATED:20260112T221440Z
LAST-MODIFIED:20260112T221750Z
UID:10000651-1857736800-1857744000@www.strasburgparks.org
SUMMARY:Indoor Facility Open Cages
DESCRIPTION:Cost: $25 for 6 visits (Punch Card Purchase Required)
URL:https://www.strasburgparks.org/event/indoor-facility-open-cages/2028-11-13/
LOCATION:Indoor Facility\, 56401 Sunset Ave.\, Strrasburg\, CO\, 80136
ORGANIZER;CN="Sara Rushman":MAILTO:activities@strasburgparks.org
END:VEVENT
BEGIN:VEVENT
DTSTART;TZID=UTC:20281117T140000
DTEND;TZID=UTC:20281117T160000
DTSTAMP:20260421T020838
CREATED:20260112T221440Z
LAST-MODIFIED:20260112T221750Z
UID:10000652-1858082400-1858089600@www.strasburgparks.org
SUMMARY:Indoor Facility Open Cages
DESCRIPTION:Cost: $25 for 6 visits (Punch Card Purchase Required)
URL:https://www.strasburgparks.org/event/indoor-facility-open-cages/2028-11-17/
LOCATION:Indoor Facility\, 56401 Sunset Ave.\, Strrasburg\, CO\, 80136
ORGANIZER;CN="Sara Rushman":MAILTO:activities@strasburgparks.org
END:VEVENT
BEGIN:VEVENT
DTSTART;TZID=UTC:20281119T140000
DTEND;TZID=UTC:20281119T160000
DTSTAMP:20260421T020838
CREATED:20260112T221440Z
LAST-MODIFIED:20260112T221750Z
UID:10000653-1858255200-1858262400@www.strasburgparks.org
SUMMARY:Indoor Facility Open Cages
DESCRIPTION:Cost: $25 for 6 visits (Punch Card Purchase Required)
URL:https://www.strasburgparks.org/event/indoor-facility-open-cages/2028-11-19/
LOCATION:Indoor Facility\, 56401 Sunset Ave.\, Strrasburg\, CO\, 80136
ORGANIZER;CN="Sara Rushman":MAILTO:activities@strasburgparks.org
END:VEVENT
BEGIN:VEVENT
DTSTART;TZID=UTC:20281120T140000
DTEND;TZID=UTC:20281120T160000
DTSTAMP:20260421T020838
CREATED:20260112T221440Z
LAST-MODIFIED:20260112T221750Z
UID:10000654-1858341600-1858348800@www.strasburgparks.org
SUMMARY:Indoor Facility Open Cages
DESCRIPTION:Cost: $25 for 6 visits (Punch Card Purchase Required)
URL:https://www.strasburgparks.org/event/indoor-facility-open-cages/2028-11-20/
LOCATION:Indoor Facility\, 56401 Sunset Ave.\, Strrasburg\, CO\, 80136
ORGANIZER;CN="Sara Rushman":MAILTO:activities@strasburgparks.org
END:VEVENT
BEGIN:VEVENT
DTSTART;TZID=UTC:20281124T140000
DTEND;TZID=UTC:20281124T160000
DTSTAMP:20260421T020838
CREATED:20260112T221440Z
LAST-MODIFIED:20260112T221750Z
UID:10000655-1858687200-1858694400@www.strasburgparks.org
SUMMARY:Indoor Facility Open Cages
DESCRIPTION:Cost: $25 for 6 visits (Punch Card Purchase Required)
URL:https://www.strasburgparks.org/event/indoor-facility-open-cages/2028-11-24/
LOCATION:Indoor Facility\, 56401 Sunset Ave.\, Strrasburg\, CO\, 80136
ORGANIZER;CN="Sara Rushman":MAILTO:activities@strasburgparks.org
END:VEVENT
BEGIN:VEVENT
DTSTART;TZID=UTC:20281126T140000
DTEND;TZID=UTC:20281126T160000
DTSTAMP:20260421T020838
CREATED:20260112T221440Z
LAST-MODIFIED:20260112T221750Z
UID:10000656-1858860000-1858867200@www.strasburgparks.org
SUMMARY:Indoor Facility Open Cages
DESCRIPTION:Cost: $25 for 6 visits (Punch Card Purchase Required)
URL:https://www.strasburgparks.org/event/indoor-facility-open-cages/2028-11-26/
LOCATION:Indoor Facility\, 56401 Sunset Ave.\, Strrasburg\, CO\, 80136
ORGANIZER;CN="Sara Rushman":MAILTO:activities@strasburgparks.org
END:VEVENT
BEGIN:VEVENT
DTSTART;TZID=UTC:20281127T140000
DTEND;TZID=UTC:20281127T160000
DTSTAMP:20260421T020838
CREATED:20260112T221440Z
LAST-MODIFIED:20260112T221750Z
UID:10000657-1858946400-1858953600@www.strasburgparks.org
SUMMARY:Indoor Facility Open Cages
DESCRIPTION:Cost: $25 for 6 visits (Punch Card Purchase Required)
URL:https://www.strasburgparks.org/event/indoor-facility-open-cages/2028-11-27/
LOCATION:Indoor Facility\, 56401 Sunset Ave.\, Strrasburg\, CO\, 80136
ORGANIZER;CN="Sara Rushman":MAILTO:activities@strasburgparks.org
END:VEVENT
BEGIN:VEVENT
DTSTART;TZID=UTC:20281201T140000
DTEND;TZID=UTC:20281201T160000
DTSTAMP:20260421T020838
CREATED:20260112T221440Z
LAST-MODIFIED:20260112T221750Z
UID:10000658-1859292000-1859299200@www.strasburgparks.org
SUMMARY:Indoor Facility Open Cages
DESCRIPTION:Cost: $25 for 6 visits (Punch Card Purchase Required)
URL:https://www.strasburgparks.org/event/indoor-facility-open-cages/2028-12-01/
LOCATION:Indoor Facility\, 56401 Sunset Ave.\, Strrasburg\, CO\, 80136
ORGANIZER;CN="Sara Rushman":MAILTO:activities@strasburgparks.org
END:VEVENT
BEGIN:VEVENT
DTSTART;TZID=UTC:20281203T140000
DTEND;TZID=UTC:20281203T160000
DTSTAMP:20260421T020838
CREATED:20260112T221440Z
LAST-MODIFIED:20260112T221750Z
UID:10000659-1859464800-1859472000@www.strasburgparks.org
SUMMARY:Indoor Facility Open Cages
DESCRIPTION:Cost: $25 for 6 visits (Punch Card Purchase Required)
URL:https://www.strasburgparks.org/event/indoor-facility-open-cages/2028-12-03/
LOCATION:Indoor Facility\, 56401 Sunset Ave.\, Strrasburg\, CO\, 80136
ORGANIZER;CN="Sara Rushman":MAILTO:activities@strasburgparks.org
END:VEVENT
BEGIN:VEVENT
DTSTART;TZID=UTC:20281204T140000
DTEND;TZID=UTC:20281204T160000
DTSTAMP:20260421T020838
CREATED:20260112T221440Z
LAST-MODIFIED:20260112T221750Z
UID:10000660-1859551200-1859558400@www.strasburgparks.org
SUMMARY:Indoor Facility Open Cages
DESCRIPTION:Cost: $25 for 6 visits (Punch Card Purchase Required)
URL:https://www.strasburgparks.org/event/indoor-facility-open-cages/2028-12-04/
LOCATION:Indoor Facility\, 56401 Sunset Ave.\, Strrasburg\, CO\, 80136
ORGANIZER;CN="Sara Rushman":MAILTO:activities@strasburgparks.org
END:VEVENT
BEGIN:VEVENT
DTSTART;TZID=UTC:20281208T140000
DTEND;TZID=UTC:20281208T160000
DTSTAMP:20260421T020838
CREATED:20260112T221440Z
LAST-MODIFIED:20260112T221750Z
UID:10000661-1859896800-1859904000@www.strasburgparks.org
SUMMARY:Indoor Facility Open Cages
DESCRIPTION:Cost: $25 for 6 visits (Punch Card Purchase Required)
URL:https://www.strasburgparks.org/event/indoor-facility-open-cages/2028-12-08/
LOCATION:Indoor Facility\, 56401 Sunset Ave.\, Strrasburg\, CO\, 80136
ORGANIZER;CN="Sara Rushman":MAILTO:activities@strasburgparks.org
END:VEVENT
END:VCALENDAR