BEGIN:VCALENDAR
VERSION:2.0
PRODID:-//Strasburg Parks &amp; Recreation District - ECPv6.15.13//NONSGML v1.0//EN
CALSCALE:GREGORIAN
METHOD:PUBLISH
X-ORIGINAL-URL:https://www.strasburgparks.org
X-WR-CALDESC:Events for Strasburg Parks &amp; Recreation District
REFRESH-INTERVAL;VALUE=DURATION:PT1H
X-Robots-Tag:noindex
X-PUBLISHED-TTL:PT1H
BEGIN:VTIMEZONE
TZID:UTC
BEGIN:STANDARD
TZOFFSETFROM:+0000
TZOFFSETTO:+0000
TZNAME:UTC
DTSTART:20270101T000000
END:STANDARD
END:VTIMEZONE
BEGIN:VEVENT
DTSTART;TZID=UTC:20280723T140000
DTEND;TZID=UTC:20280723T160000
DTSTAMP:20260420T213528
CREATED:20260112T221440Z
LAST-MODIFIED:20260112T221750Z
UID:10000602-1847973600-1847980800@www.strasburgparks.org
SUMMARY:Indoor Facility Open Cages
DESCRIPTION:Cost: $25 for 6 visits (Punch Card Purchase Required)
URL:https://www.strasburgparks.org/event/indoor-facility-open-cages/2028-07-23/
LOCATION:Indoor Facility\, 56401 Sunset Ave.\, Strrasburg\, CO\, 80136
ORGANIZER;CN="Sara Rushman":MAILTO:activities@strasburgparks.org
END:VEVENT
BEGIN:VEVENT
DTSTART;TZID=UTC:20280724T140000
DTEND;TZID=UTC:20280724T160000
DTSTAMP:20260420T213528
CREATED:20260112T221440Z
LAST-MODIFIED:20260112T221750Z
UID:10000603-1848060000-1848067200@www.strasburgparks.org
SUMMARY:Indoor Facility Open Cages
DESCRIPTION:Cost: $25 for 6 visits (Punch Card Purchase Required)
URL:https://www.strasburgparks.org/event/indoor-facility-open-cages/2028-07-24/
LOCATION:Indoor Facility\, 56401 Sunset Ave.\, Strrasburg\, CO\, 80136
ORGANIZER;CN="Sara Rushman":MAILTO:activities@strasburgparks.org
END:VEVENT
BEGIN:VEVENT
DTSTART;TZID=UTC:20280728T140000
DTEND;TZID=UTC:20280728T160000
DTSTAMP:20260420T213528
CREATED:20260112T221440Z
LAST-MODIFIED:20260112T221750Z
UID:10000604-1848405600-1848412800@www.strasburgparks.org
SUMMARY:Indoor Facility Open Cages
DESCRIPTION:Cost: $25 for 6 visits (Punch Card Purchase Required)
URL:https://www.strasburgparks.org/event/indoor-facility-open-cages/2028-07-28/
LOCATION:Indoor Facility\, 56401 Sunset Ave.\, Strrasburg\, CO\, 80136
ORGANIZER;CN="Sara Rushman":MAILTO:activities@strasburgparks.org
END:VEVENT
BEGIN:VEVENT
DTSTART;TZID=UTC:20280730T140000
DTEND;TZID=UTC:20280730T160000
DTSTAMP:20260420T213528
CREATED:20260112T221440Z
LAST-MODIFIED:20260112T221750Z
UID:10000605-1848578400-1848585600@www.strasburgparks.org
SUMMARY:Indoor Facility Open Cages
DESCRIPTION:Cost: $25 for 6 visits (Punch Card Purchase Required)
URL:https://www.strasburgparks.org/event/indoor-facility-open-cages/2028-07-30/
LOCATION:Indoor Facility\, 56401 Sunset Ave.\, Strrasburg\, CO\, 80136
ORGANIZER;CN="Sara Rushman":MAILTO:activities@strasburgparks.org
END:VEVENT
BEGIN:VEVENT
DTSTART;TZID=UTC:20280731T140000
DTEND;TZID=UTC:20280731T160000
DTSTAMP:20260420T213528
CREATED:20260112T221440Z
LAST-MODIFIED:20260112T221750Z
UID:10000606-1848664800-1848672000@www.strasburgparks.org
SUMMARY:Indoor Facility Open Cages
DESCRIPTION:Cost: $25 for 6 visits (Punch Card Purchase Required)
URL:https://www.strasburgparks.org/event/indoor-facility-open-cages/2028-07-31/
LOCATION:Indoor Facility\, 56401 Sunset Ave.\, Strrasburg\, CO\, 80136
ORGANIZER;CN="Sara Rushman":MAILTO:activities@strasburgparks.org
END:VEVENT
BEGIN:VEVENT
DTSTART;TZID=UTC:20280804T140000
DTEND;TZID=UTC:20280804T160000
DTSTAMP:20260420T213528
CREATED:20260112T221440Z
LAST-MODIFIED:20260112T221750Z
UID:10000607-1849010400-1849017600@www.strasburgparks.org
SUMMARY:Indoor Facility Open Cages
DESCRIPTION:Cost: $25 for 6 visits (Punch Card Purchase Required)
URL:https://www.strasburgparks.org/event/indoor-facility-open-cages/2028-08-04/
LOCATION:Indoor Facility\, 56401 Sunset Ave.\, Strrasburg\, CO\, 80136
ORGANIZER;CN="Sara Rushman":MAILTO:activities@strasburgparks.org
END:VEVENT
BEGIN:VEVENT
DTSTART;TZID=UTC:20280806T140000
DTEND;TZID=UTC:20280806T160000
DTSTAMP:20260420T213528
CREATED:20260112T221440Z
LAST-MODIFIED:20260112T221750Z
UID:10000608-1849183200-1849190400@www.strasburgparks.org
SUMMARY:Indoor Facility Open Cages
DESCRIPTION:Cost: $25 for 6 visits (Punch Card Purchase Required)
URL:https://www.strasburgparks.org/event/indoor-facility-open-cages/2028-08-06/
LOCATION:Indoor Facility\, 56401 Sunset Ave.\, Strrasburg\, CO\, 80136
ORGANIZER;CN="Sara Rushman":MAILTO:activities@strasburgparks.org
END:VEVENT
BEGIN:VEVENT
DTSTART;TZID=UTC:20280807T140000
DTEND;TZID=UTC:20280807T160000
DTSTAMP:20260420T213528
CREATED:20260112T221440Z
LAST-MODIFIED:20260112T221750Z
UID:10000609-1849269600-1849276800@www.strasburgparks.org
SUMMARY:Indoor Facility Open Cages
DESCRIPTION:Cost: $25 for 6 visits (Punch Card Purchase Required)
URL:https://www.strasburgparks.org/event/indoor-facility-open-cages/2028-08-07/
LOCATION:Indoor Facility\, 56401 Sunset Ave.\, Strrasburg\, CO\, 80136
ORGANIZER;CN="Sara Rushman":MAILTO:activities@strasburgparks.org
END:VEVENT
BEGIN:VEVENT
DTSTART;TZID=UTC:20280811T140000
DTEND;TZID=UTC:20280811T160000
DTSTAMP:20260420T213528
CREATED:20260112T221440Z
LAST-MODIFIED:20260112T221750Z
UID:10000610-1849615200-1849622400@www.strasburgparks.org
SUMMARY:Indoor Facility Open Cages
DESCRIPTION:Cost: $25 for 6 visits (Punch Card Purchase Required)
URL:https://www.strasburgparks.org/event/indoor-facility-open-cages/2028-08-11/
LOCATION:Indoor Facility\, 56401 Sunset Ave.\, Strrasburg\, CO\, 80136
ORGANIZER;CN="Sara Rushman":MAILTO:activities@strasburgparks.org
END:VEVENT
BEGIN:VEVENT
DTSTART;TZID=UTC:20280813T140000
DTEND;TZID=UTC:20280813T160000
DTSTAMP:20260420T213528
CREATED:20260112T221440Z
LAST-MODIFIED:20260112T221750Z
UID:10000611-1849788000-1849795200@www.strasburgparks.org
SUMMARY:Indoor Facility Open Cages
DESCRIPTION:Cost: $25 for 6 visits (Punch Card Purchase Required)
URL:https://www.strasburgparks.org/event/indoor-facility-open-cages/2028-08-13/
LOCATION:Indoor Facility\, 56401 Sunset Ave.\, Strrasburg\, CO\, 80136
ORGANIZER;CN="Sara Rushman":MAILTO:activities@strasburgparks.org
END:VEVENT
BEGIN:VEVENT
DTSTART;TZID=UTC:20280814T140000
DTEND;TZID=UTC:20280814T160000
DTSTAMP:20260420T213528
CREATED:20260112T221440Z
LAST-MODIFIED:20260112T221750Z
UID:10000612-1849874400-1849881600@www.strasburgparks.org
SUMMARY:Indoor Facility Open Cages
DESCRIPTION:Cost: $25 for 6 visits (Punch Card Purchase Required)
URL:https://www.strasburgparks.org/event/indoor-facility-open-cages/2028-08-14/
LOCATION:Indoor Facility\, 56401 Sunset Ave.\, Strrasburg\, CO\, 80136
ORGANIZER;CN="Sara Rushman":MAILTO:activities@strasburgparks.org
END:VEVENT
BEGIN:VEVENT
DTSTART;TZID=UTC:20280818T140000
DTEND;TZID=UTC:20280818T160000
DTSTAMP:20260420T213528
CREATED:20260112T221440Z
LAST-MODIFIED:20260112T221750Z
UID:10000613-1850220000-1850227200@www.strasburgparks.org
SUMMARY:Indoor Facility Open Cages
DESCRIPTION:Cost: $25 for 6 visits (Punch Card Purchase Required)
URL:https://www.strasburgparks.org/event/indoor-facility-open-cages/2028-08-18/
LOCATION:Indoor Facility\, 56401 Sunset Ave.\, Strrasburg\, CO\, 80136
ORGANIZER;CN="Sara Rushman":MAILTO:activities@strasburgparks.org
END:VEVENT
BEGIN:VEVENT
DTSTART;TZID=UTC:20280820T140000
DTEND;TZID=UTC:20280820T160000
DTSTAMP:20260420T213528
CREATED:20260112T221440Z
LAST-MODIFIED:20260112T221750Z
UID:10000614-1850392800-1850400000@www.strasburgparks.org
SUMMARY:Indoor Facility Open Cages
DESCRIPTION:Cost: $25 for 6 visits (Punch Card Purchase Required)
URL:https://www.strasburgparks.org/event/indoor-facility-open-cages/2028-08-20/
LOCATION:Indoor Facility\, 56401 Sunset Ave.\, Strrasburg\, CO\, 80136
ORGANIZER;CN="Sara Rushman":MAILTO:activities@strasburgparks.org
END:VEVENT
BEGIN:VEVENT
DTSTART;TZID=UTC:20280821T140000
DTEND;TZID=UTC:20280821T160000
DTSTAMP:20260420T213528
CREATED:20260112T221440Z
LAST-MODIFIED:20260112T221750Z
UID:10000615-1850479200-1850486400@www.strasburgparks.org
SUMMARY:Indoor Facility Open Cages
DESCRIPTION:Cost: $25 for 6 visits (Punch Card Purchase Required)
URL:https://www.strasburgparks.org/event/indoor-facility-open-cages/2028-08-21/
LOCATION:Indoor Facility\, 56401 Sunset Ave.\, Strrasburg\, CO\, 80136
ORGANIZER;CN="Sara Rushman":MAILTO:activities@strasburgparks.org
END:VEVENT
BEGIN:VEVENT
DTSTART;TZID=UTC:20280825T140000
DTEND;TZID=UTC:20280825T160000
DTSTAMP:20260420T213528
CREATED:20260112T221440Z
LAST-MODIFIED:20260112T221750Z
UID:10000616-1850824800-1850832000@www.strasburgparks.org
SUMMARY:Indoor Facility Open Cages
DESCRIPTION:Cost: $25 for 6 visits (Punch Card Purchase Required)
URL:https://www.strasburgparks.org/event/indoor-facility-open-cages/2028-08-25/
LOCATION:Indoor Facility\, 56401 Sunset Ave.\, Strrasburg\, CO\, 80136
ORGANIZER;CN="Sara Rushman":MAILTO:activities@strasburgparks.org
END:VEVENT
BEGIN:VEVENT
DTSTART;TZID=UTC:20280827T140000
DTEND;TZID=UTC:20280827T160000
DTSTAMP:20260420T213528
CREATED:20260112T221440Z
LAST-MODIFIED:20260112T221750Z
UID:10000617-1850997600-1851004800@www.strasburgparks.org
SUMMARY:Indoor Facility Open Cages
DESCRIPTION:Cost: $25 for 6 visits (Punch Card Purchase Required)
URL:https://www.strasburgparks.org/event/indoor-facility-open-cages/2028-08-27/
LOCATION:Indoor Facility\, 56401 Sunset Ave.\, Strrasburg\, CO\, 80136
ORGANIZER;CN="Sara Rushman":MAILTO:activities@strasburgparks.org
END:VEVENT
BEGIN:VEVENT
DTSTART;TZID=UTC:20280828T140000
DTEND;TZID=UTC:20280828T160000
DTSTAMP:20260420T213528
CREATED:20260112T221440Z
LAST-MODIFIED:20260112T221750Z
UID:10000618-1851084000-1851091200@www.strasburgparks.org
SUMMARY:Indoor Facility Open Cages
DESCRIPTION:Cost: $25 for 6 visits (Punch Card Purchase Required)
URL:https://www.strasburgparks.org/event/indoor-facility-open-cages/2028-08-28/
LOCATION:Indoor Facility\, 56401 Sunset Ave.\, Strrasburg\, CO\, 80136
ORGANIZER;CN="Sara Rushman":MAILTO:activities@strasburgparks.org
END:VEVENT
BEGIN:VEVENT
DTSTART;TZID=UTC:20280901T140000
DTEND;TZID=UTC:20280901T160000
DTSTAMP:20260420T213528
CREATED:20260112T221440Z
LAST-MODIFIED:20260112T221750Z
UID:10000619-1851429600-1851436800@www.strasburgparks.org
SUMMARY:Indoor Facility Open Cages
DESCRIPTION:Cost: $25 for 6 visits (Punch Card Purchase Required)
URL:https://www.strasburgparks.org/event/indoor-facility-open-cages/2028-09-01/
LOCATION:Indoor Facility\, 56401 Sunset Ave.\, Strrasburg\, CO\, 80136
ORGANIZER;CN="Sara Rushman":MAILTO:activities@strasburgparks.org
END:VEVENT
BEGIN:VEVENT
DTSTART;TZID=UTC:20280903T140000
DTEND;TZID=UTC:20280903T160000
DTSTAMP:20260420T213528
CREATED:20260112T221440Z
LAST-MODIFIED:20260112T221750Z
UID:10000620-1851602400-1851609600@www.strasburgparks.org
SUMMARY:Indoor Facility Open Cages
DESCRIPTION:Cost: $25 for 6 visits (Punch Card Purchase Required)
URL:https://www.strasburgparks.org/event/indoor-facility-open-cages/2028-09-03/
LOCATION:Indoor Facility\, 56401 Sunset Ave.\, Strrasburg\, CO\, 80136
ORGANIZER;CN="Sara Rushman":MAILTO:activities@strasburgparks.org
END:VEVENT
BEGIN:VEVENT
DTSTART;TZID=UTC:20280904T140000
DTEND;TZID=UTC:20280904T160000
DTSTAMP:20260420T213528
CREATED:20260112T221440Z
LAST-MODIFIED:20260112T221750Z
UID:10000621-1851688800-1851696000@www.strasburgparks.org
SUMMARY:Indoor Facility Open Cages
DESCRIPTION:Cost: $25 for 6 visits (Punch Card Purchase Required)
URL:https://www.strasburgparks.org/event/indoor-facility-open-cages/2028-09-04/
LOCATION:Indoor Facility\, 56401 Sunset Ave.\, Strrasburg\, CO\, 80136
ORGANIZER;CN="Sara Rushman":MAILTO:activities@strasburgparks.org
END:VEVENT
BEGIN:VEVENT
DTSTART;TZID=UTC:20280908T140000
DTEND;TZID=UTC:20280908T160000
DTSTAMP:20260420T213528
CREATED:20260112T221440Z
LAST-MODIFIED:20260112T221750Z
UID:10000622-1852034400-1852041600@www.strasburgparks.org
SUMMARY:Indoor Facility Open Cages
DESCRIPTION:Cost: $25 for 6 visits (Punch Card Purchase Required)
URL:https://www.strasburgparks.org/event/indoor-facility-open-cages/2028-09-08/
LOCATION:Indoor Facility\, 56401 Sunset Ave.\, Strrasburg\, CO\, 80136
ORGANIZER;CN="Sara Rushman":MAILTO:activities@strasburgparks.org
END:VEVENT
BEGIN:VEVENT
DTSTART;TZID=UTC:20280910T140000
DTEND;TZID=UTC:20280910T160000
DTSTAMP:20260420T213528
CREATED:20260112T221440Z
LAST-MODIFIED:20260112T221750Z
UID:10000623-1852207200-1852214400@www.strasburgparks.org
SUMMARY:Indoor Facility Open Cages
DESCRIPTION:Cost: $25 for 6 visits (Punch Card Purchase Required)
URL:https://www.strasburgparks.org/event/indoor-facility-open-cages/2028-09-10/
LOCATION:Indoor Facility\, 56401 Sunset Ave.\, Strrasburg\, CO\, 80136
ORGANIZER;CN="Sara Rushman":MAILTO:activities@strasburgparks.org
END:VEVENT
BEGIN:VEVENT
DTSTART;TZID=UTC:20280911T140000
DTEND;TZID=UTC:20280911T160000
DTSTAMP:20260420T213528
CREATED:20260112T221440Z
LAST-MODIFIED:20260112T221750Z
UID:10000624-1852293600-1852300800@www.strasburgparks.org
SUMMARY:Indoor Facility Open Cages
DESCRIPTION:Cost: $25 for 6 visits (Punch Card Purchase Required)
URL:https://www.strasburgparks.org/event/indoor-facility-open-cages/2028-09-11/
LOCATION:Indoor Facility\, 56401 Sunset Ave.\, Strrasburg\, CO\, 80136
ORGANIZER;CN="Sara Rushman":MAILTO:activities@strasburgparks.org
END:VEVENT
BEGIN:VEVENT
DTSTART;TZID=UTC:20280915T140000
DTEND;TZID=UTC:20280915T160000
DTSTAMP:20260420T213528
CREATED:20260112T221440Z
LAST-MODIFIED:20260112T221750Z
UID:10000625-1852639200-1852646400@www.strasburgparks.org
SUMMARY:Indoor Facility Open Cages
DESCRIPTION:Cost: $25 for 6 visits (Punch Card Purchase Required)
URL:https://www.strasburgparks.org/event/indoor-facility-open-cages/2028-09-15/
LOCATION:Indoor Facility\, 56401 Sunset Ave.\, Strrasburg\, CO\, 80136
ORGANIZER;CN="Sara Rushman":MAILTO:activities@strasburgparks.org
END:VEVENT
BEGIN:VEVENT
DTSTART;TZID=UTC:20280917T140000
DTEND;TZID=UTC:20280917T160000
DTSTAMP:20260420T213528
CREATED:20260112T221440Z
LAST-MODIFIED:20260112T221750Z
UID:10000626-1852812000-1852819200@www.strasburgparks.org
SUMMARY:Indoor Facility Open Cages
DESCRIPTION:Cost: $25 for 6 visits (Punch Card Purchase Required)
URL:https://www.strasburgparks.org/event/indoor-facility-open-cages/2028-09-17/
LOCATION:Indoor Facility\, 56401 Sunset Ave.\, Strrasburg\, CO\, 80136
ORGANIZER;CN="Sara Rushman":MAILTO:activities@strasburgparks.org
END:VEVENT
BEGIN:VEVENT
DTSTART;TZID=UTC:20280918T140000
DTEND;TZID=UTC:20280918T160000
DTSTAMP:20260420T213528
CREATED:20260112T221440Z
LAST-MODIFIED:20260112T221750Z
UID:10000627-1852898400-1852905600@www.strasburgparks.org
SUMMARY:Indoor Facility Open Cages
DESCRIPTION:Cost: $25 for 6 visits (Punch Card Purchase Required)
URL:https://www.strasburgparks.org/event/indoor-facility-open-cages/2028-09-18/
LOCATION:Indoor Facility\, 56401 Sunset Ave.\, Strrasburg\, CO\, 80136
ORGANIZER;CN="Sara Rushman":MAILTO:activities@strasburgparks.org
END:VEVENT
BEGIN:VEVENT
DTSTART;TZID=UTC:20280922T140000
DTEND;TZID=UTC:20280922T160000
DTSTAMP:20260420T213528
CREATED:20260112T221440Z
LAST-MODIFIED:20260112T221750Z
UID:10000628-1853244000-1853251200@www.strasburgparks.org
SUMMARY:Indoor Facility Open Cages
DESCRIPTION:Cost: $25 for 6 visits (Punch Card Purchase Required)
URL:https://www.strasburgparks.org/event/indoor-facility-open-cages/2028-09-22/
LOCATION:Indoor Facility\, 56401 Sunset Ave.\, Strrasburg\, CO\, 80136
ORGANIZER;CN="Sara Rushman":MAILTO:activities@strasburgparks.org
END:VEVENT
BEGIN:VEVENT
DTSTART;TZID=UTC:20280924T140000
DTEND;TZID=UTC:20280924T160000
DTSTAMP:20260420T213528
CREATED:20260112T221440Z
LAST-MODIFIED:20260112T221750Z
UID:10000629-1853416800-1853424000@www.strasburgparks.org
SUMMARY:Indoor Facility Open Cages
DESCRIPTION:Cost: $25 for 6 visits (Punch Card Purchase Required)
URL:https://www.strasburgparks.org/event/indoor-facility-open-cages/2028-09-24/
LOCATION:Indoor Facility\, 56401 Sunset Ave.\, Strrasburg\, CO\, 80136
ORGANIZER;CN="Sara Rushman":MAILTO:activities@strasburgparks.org
END:VEVENT
BEGIN:VEVENT
DTSTART;TZID=UTC:20280925T140000
DTEND;TZID=UTC:20280925T160000
DTSTAMP:20260420T213528
CREATED:20260112T221440Z
LAST-MODIFIED:20260112T221750Z
UID:10000630-1853503200-1853510400@www.strasburgparks.org
SUMMARY:Indoor Facility Open Cages
DESCRIPTION:Cost: $25 for 6 visits (Punch Card Purchase Required)
URL:https://www.strasburgparks.org/event/indoor-facility-open-cages/2028-09-25/
LOCATION:Indoor Facility\, 56401 Sunset Ave.\, Strrasburg\, CO\, 80136
ORGANIZER;CN="Sara Rushman":MAILTO:activities@strasburgparks.org
END:VEVENT
BEGIN:VEVENT
DTSTART;TZID=UTC:20280929T140000
DTEND;TZID=UTC:20280929T160000
DTSTAMP:20260420T213528
CREATED:20260112T221440Z
LAST-MODIFIED:20260112T221750Z
UID:10000631-1853848800-1853856000@www.strasburgparks.org
SUMMARY:Indoor Facility Open Cages
DESCRIPTION:Cost: $25 for 6 visits (Punch Card Purchase Required)
URL:https://www.strasburgparks.org/event/indoor-facility-open-cages/2028-09-29/
LOCATION:Indoor Facility\, 56401 Sunset Ave.\, Strrasburg\, CO\, 80136
ORGANIZER;CN="Sara Rushman":MAILTO:activities@strasburgparks.org
END:VEVENT
END:VCALENDAR